BEGIN:VCALENDAR
VERSION:2.0
PRODID:-//The Community House Inc - ECPv6.15.20//NONSGML v1.0//EN
CALSCALE:GREGORIAN
METHOD:PUBLISH
X-WR-CALNAME:The Community House Inc
X-ORIGINAL-URL:https://www.thecommunityhousetn.org
X-WR-CALDESC:Events for The Community House Inc
REFRESH-INTERVAL;VALUE=DURATION:PT1H
X-Robots-Tag:noindex
X-PUBLISHED-TTL:PT1H
BEGIN:VTIMEZONE
TZID:America/Chicago
BEGIN:DAYLIGHT
TZOFFSETFROM:-0600
TZOFFSETTO:-0500
TZNAME:CDT
DTSTART:20240310T080000
END:DAYLIGHT
BEGIN:STANDARD
TZOFFSETFROM:-0500
TZOFFSETTO:-0600
TZNAME:CST
DTSTART:20241103T070000
END:STANDARD
BEGIN:DAYLIGHT
TZOFFSETFROM:-0600
TZOFFSETTO:-0500
TZNAME:CDT
DTSTART:20250309T080000
END:DAYLIGHT
BEGIN:STANDARD
TZOFFSETFROM:-0500
TZOFFSETTO:-0600
TZNAME:CST
DTSTART:20251102T070000
END:STANDARD
BEGIN:DAYLIGHT
TZOFFSETFROM:-0600
TZOFFSETTO:-0500
TZNAME:CDT
DTSTART:20260308T080000
END:DAYLIGHT
BEGIN:STANDARD
TZOFFSETFROM:-0500
TZOFFSETTO:-0600
TZNAME:CST
DTSTART:20261101T070000
END:STANDARD
END:VTIMEZONE
BEGIN:VEVENT
DTSTART;TZID=America/Chicago:20250602T113000
DTEND;TZID=America/Chicago:20250602T120000
DTSTAMP:20260422T075440
CREATED:20250110T214130Z
LAST-MODIFIED:20250110T214130Z
UID:10002215-1748863800-1748865600@www.thecommunityhousetn.org
SUMMARY:Jamestown Senior Center Meal Program
DESCRIPTION:Senior Center\nMonday-Friday 11:30 am to noon\nFree meals for seniors over the age of 60 and qualified companions\n308 S. Main St.\, Jamestown \nMay also apply for their home meal delivery program\nMonday – Friday\nMUST meet requirements\nCall (931) 879-7249 for a referral.
URL:https://www.thecommunityhousetn.org/event/jamestown-senior-center-meal-program/2025-06-02/
LOCATION:Jamestown Senior Center\, 308 S. Main St.\, Jamestown\, TN\, 38556\, United States
END:VEVENT
BEGIN:VEVENT
DTSTART;TZID=America/Chicago:20250602T170000
DTEND;TZID=America/Chicago:20250602T180000
DTSTAMP:20260422T075440
CREATED:20250526T171615Z
LAST-MODIFIED:20250526T171752Z
UID:10006624-1748883600-1748887200@www.thecommunityhousetn.org
SUMMARY:Handfuls of Harvest Soup Kitchen
DESCRIPTION:Monday\, Tuesday\, Thursday\, Friday\nTimes can vary. 4 pm to 5 pm currently\nFree meals. Donations accepted.\n206 Gaudin Ave\, Jamestown\, TN 38556\n(931) 752-8988
URL:https://www.thecommunityhousetn.org/event/handfuls-of-harvest-soup-kitchen-3/2025-06-02/
LOCATION:Handfuls of Harvest Soup Kitchen\, 206 Gaudin Ave\, Jamestown\, TN\, 38556\, United States
END:VEVENT
BEGIN:VEVENT
DTSTART;TZID=America/Chicago:20250602T170000
DTEND;TZID=America/Chicago:20250602T180000
DTSTAMP:20260422T075440
CREATED:20250526T171859Z
LAST-MODIFIED:20250526T171902Z
UID:10007667-1748883600-1748887200@www.thecommunityhousetn.org
SUMMARY:Handfuls of Harvest Soup Kitchen
DESCRIPTION:Monday\, Tuesday\, Thursday\, Friday\nTimes can vary. 5 pm to 6 pm currently\nFree meals. Donations accepted.\n206 Gaudin Ave\, Jamestown\, TN 38556\n(931) 752-8988
URL:https://www.thecommunityhousetn.org/event/handfuls-of-harvest-soup-kitchen-2-2/2025-06-02/
LOCATION:Handfuls of Harvest Soup Kitchen\, 206 Gaudin Ave\, Jamestown\, TN\, 38556\, United States
CATEGORIES:Food Pantry
END:VEVENT
BEGIN:VEVENT
DTSTART;TZID=America/Chicago:20250603T083000
DTEND;TZID=America/Chicago:20250603T110000
DTSTAMP:20260422T075440
CREATED:20250110T205415Z
LAST-MODIFIED:20250218T163800Z
UID:10001365-1748939400-1748948400@www.thecommunityhousetn.org
SUMMARY:Jamestown Food Pantry
DESCRIPTION:Every Tuesday; 8:30 am to 11 am\nProvides a week of food to qualified county residents. Eligible once every 4 weeks.\nSee pantry for qualifications.\n511 Fairgrounds Rd\, Jamestown\, TN 38556
URL:https://www.thecommunityhousetn.org/event/jamestown-food-pantry/2025-06-03/
LOCATION:Jamestown Food Pantry\, 511 Fairgrounds Rd(931) 879-1934\, Jamestown\, TN\, 38556\, United States
END:VEVENT
BEGIN:VEVENT
DTSTART;TZID=America/Chicago:20250603T100000
DTEND;TZID=America/Chicago:20250603T120000
DTSTAMP:20260422T075440
CREATED:20250110T210354Z
LAST-MODIFIED:20250110T212321Z
UID:10000063-1748944800-1748952000@www.thecommunityhousetn.org
SUMMARY:Methodist Church Food Pantry
DESCRIPTION:Every Tuesday 10 am to noon\n102 E Church Street\, Jamestown\n(931) 879-7816
URL:https://www.thecommunityhousetn.org/event/methodist-church-food-pantry/2025-06-03/
LOCATION:Methodist Church Food Pantry\, 102 E Church Street\, Jamestown\, TN\, 38556\, United States
END:VEVENT
BEGIN:VEVENT
DTSTART;TZID=America/Chicago:20250603T100000
DTEND;TZID=America/Chicago:20250603T120000
DTSTAMP:20260422T075440
CREATED:20250423T183259Z
LAST-MODIFIED:20250423T183259Z
UID:10004550-1748944800-1748952000@www.thecommunityhousetn.org
SUMMARY:Methodist Church Food Pantry
DESCRIPTION:Every Tuesday 10 am to noon\n102 E Church Street\, Jamestown\n(931) 879-7816
URL:https://www.thecommunityhousetn.org/event/methodist-church-food-pantry-2/2025-06-03/
LOCATION:Methodist Church Food Pantry\, 102 E Church Street\, Jamestown\, TN\, 38556\, United States
CATEGORIES:Food Pantry
END:VEVENT
BEGIN:VEVENT
DTSTART;TZID=America/Chicago:20250603T113000
DTEND;TZID=America/Chicago:20250603T120000
DTSTAMP:20260422T075440
CREATED:20250110T214130Z
LAST-MODIFIED:20250110T214130Z
UID:10002216-1748950200-1748952000@www.thecommunityhousetn.org
SUMMARY:Jamestown Senior Center Meal Program
DESCRIPTION:Senior Center\nMonday-Friday 11:30 am to noon\nFree meals for seniors over the age of 60 and qualified companions\n308 S. Main St.\, Jamestown \nMay also apply for their home meal delivery program\nMonday – Friday\nMUST meet requirements\nCall (931) 879-7249 for a referral.
URL:https://www.thecommunityhousetn.org/event/jamestown-senior-center-meal-program/2025-06-03/
LOCATION:Jamestown Senior Center\, 308 S. Main St.\, Jamestown\, TN\, 38556\, United States
END:VEVENT
BEGIN:VEVENT
DTSTART;TZID=America/Chicago:20250603T170000
DTEND;TZID=America/Chicago:20250603T180000
DTSTAMP:20260422T075440
CREATED:20250526T171615Z
LAST-MODIFIED:20250526T171752Z
UID:10006625-1748970000-1748973600@www.thecommunityhousetn.org
SUMMARY:Handfuls of Harvest Soup Kitchen
DESCRIPTION:Monday\, Tuesday\, Thursday\, Friday\nTimes can vary. 4 pm to 5 pm currently\nFree meals. Donations accepted.\n206 Gaudin Ave\, Jamestown\, TN 38556\n(931) 752-8988
URL:https://www.thecommunityhousetn.org/event/handfuls-of-harvest-soup-kitchen-3/2025-06-03/
LOCATION:Handfuls of Harvest Soup Kitchen\, 206 Gaudin Ave\, Jamestown\, TN\, 38556\, United States
END:VEVENT
BEGIN:VEVENT
DTSTART;TZID=America/Chicago:20250603T170000
DTEND;TZID=America/Chicago:20250603T180000
DTSTAMP:20260422T075440
CREATED:20250526T171859Z
LAST-MODIFIED:20250526T171902Z
UID:10007668-1748970000-1748973600@www.thecommunityhousetn.org
SUMMARY:Handfuls of Harvest Soup Kitchen
DESCRIPTION:Monday\, Tuesday\, Thursday\, Friday\nTimes can vary. 5 pm to 6 pm currently\nFree meals. Donations accepted.\n206 Gaudin Ave\, Jamestown\, TN 38556\n(931) 752-8988
URL:https://www.thecommunityhousetn.org/event/handfuls-of-harvest-soup-kitchen-2-2/2025-06-03/
LOCATION:Handfuls of Harvest Soup Kitchen\, 206 Gaudin Ave\, Jamestown\, TN\, 38556\, United States
CATEGORIES:Food Pantry
END:VEVENT
BEGIN:VEVENT
DTSTART;TZID=America/Chicago:20250604T113000
DTEND;TZID=America/Chicago:20250604T120000
DTSTAMP:20260422T075440
CREATED:20250110T214130Z
LAST-MODIFIED:20250110T214130Z
UID:10002217-1749036600-1749038400@www.thecommunityhousetn.org
SUMMARY:Jamestown Senior Center Meal Program
DESCRIPTION:Senior Center\nMonday-Friday 11:30 am to noon\nFree meals for seniors over the age of 60 and qualified companions\n308 S. Main St.\, Jamestown \nMay also apply for their home meal delivery program\nMonday – Friday\nMUST meet requirements\nCall (931) 879-7249 for a referral.
URL:https://www.thecommunityhousetn.org/event/jamestown-senior-center-meal-program/2025-06-04/
LOCATION:Jamestown Senior Center\, 308 S. Main St.\, Jamestown\, TN\, 38556\, United States
END:VEVENT
BEGIN:VEVENT
DTSTART;TZID=America/Chicago:20250605T113000
DTEND;TZID=America/Chicago:20250605T120000
DTSTAMP:20260422T075440
CREATED:20250110T214130Z
LAST-MODIFIED:20250110T214130Z
UID:10002218-1749123000-1749124800@www.thecommunityhousetn.org
SUMMARY:Jamestown Senior Center Meal Program
DESCRIPTION:Senior Center\nMonday-Friday 11:30 am to noon\nFree meals for seniors over the age of 60 and qualified companions\n308 S. Main St.\, Jamestown \nMay also apply for their home meal delivery program\nMonday – Friday\nMUST meet requirements\nCall (931) 879-7249 for a referral.
URL:https://www.thecommunityhousetn.org/event/jamestown-senior-center-meal-program/2025-06-05/
LOCATION:Jamestown Senior Center\, 308 S. Main St.\, Jamestown\, TN\, 38556\, United States
END:VEVENT
BEGIN:VEVENT
DTSTART;TZID=America/Chicago:20250605T130000
DTEND;TZID=America/Chicago:20250605T160000
DTSTAMP:20260422T075440
CREATED:20250526T171256Z
LAST-MODIFIED:20250526T171256Z
UID:10006361-1749128400-1749139200@www.thecommunityhousetn.org
SUMMARY:Refresh & Refuel Outreach
DESCRIPTION:“Refresh & Refuel” is a weekly Outreach on Thursday afternoons from 1:00 to 4:00 pm. The outreach offers access to a hot shower\, made-to-order sandwiches\, hygiene items\,  clothing\, and more for the area’s needy or unsheltered. \nLocated at the First Baptist Church Family Life Center in Jamestown. \n Coordinated by The Community House\, the outreach is staffed by volunteers from numerous area nonprofits and churches.  \nFuture plans include access to laundry facilities\, haircuts\, and more.
URL:https://www.thecommunityhousetn.org/event/refresh-refuel-outreach/2025-06-05/
LOCATION:Family Life Center\, FJB\, 360 East Central Avenue\, Jamestown\, TN\, 38556\, United States
CATEGORIES:Food Pantry
ORGANIZER;CN="The Community House":MAILTO:info@thecommunityhouseTN.org
END:VEVENT
BEGIN:VEVENT
DTSTART;TZID=America/Chicago:20250605T170000
DTEND;TZID=America/Chicago:20250605T180000
DTSTAMP:20260422T075440
CREATED:20250526T171615Z
LAST-MODIFIED:20250526T171752Z
UID:10006626-1749142800-1749146400@www.thecommunityhousetn.org
SUMMARY:Handfuls of Harvest Soup Kitchen
DESCRIPTION:Monday\, Tuesday\, Thursday\, Friday\nTimes can vary. 4 pm to 5 pm currently\nFree meals. Donations accepted.\n206 Gaudin Ave\, Jamestown\, TN 38556\n(931) 752-8988
URL:https://www.thecommunityhousetn.org/event/handfuls-of-harvest-soup-kitchen-3/2025-06-05/
LOCATION:Handfuls of Harvest Soup Kitchen\, 206 Gaudin Ave\, Jamestown\, TN\, 38556\, United States
END:VEVENT
BEGIN:VEVENT
DTSTART;TZID=America/Chicago:20250605T170000
DTEND;TZID=America/Chicago:20250605T180000
DTSTAMP:20260422T075440
CREATED:20250526T171859Z
LAST-MODIFIED:20250526T171902Z
UID:10007669-1749142800-1749146400@www.thecommunityhousetn.org
SUMMARY:Handfuls of Harvest Soup Kitchen
DESCRIPTION:Monday\, Tuesday\, Thursday\, Friday\nTimes can vary. 5 pm to 6 pm currently\nFree meals. Donations accepted.\n206 Gaudin Ave\, Jamestown\, TN 38556\n(931) 752-8988
URL:https://www.thecommunityhousetn.org/event/handfuls-of-harvest-soup-kitchen-2-2/2025-06-05/
LOCATION:Handfuls of Harvest Soup Kitchen\, 206 Gaudin Ave\, Jamestown\, TN\, 38556\, United States
CATEGORIES:Food Pantry
END:VEVENT
BEGIN:VEVENT
DTSTART;TZID=America/Chicago:20250606T113000
DTEND;TZID=America/Chicago:20250606T120000
DTSTAMP:20260422T075440
CREATED:20250110T214130Z
LAST-MODIFIED:20250110T214130Z
UID:10002219-1749209400-1749211200@www.thecommunityhousetn.org
SUMMARY:Jamestown Senior Center Meal Program
DESCRIPTION:Senior Center\nMonday-Friday 11:30 am to noon\nFree meals for seniors over the age of 60 and qualified companions\n308 S. Main St.\, Jamestown \nMay also apply for their home meal delivery program\nMonday – Friday\nMUST meet requirements\nCall (931) 879-7249 for a referral.
URL:https://www.thecommunityhousetn.org/event/jamestown-senior-center-meal-program/2025-06-06/
LOCATION:Jamestown Senior Center\, 308 S. Main St.\, Jamestown\, TN\, 38556\, United States
END:VEVENT
BEGIN:VEVENT
DTSTART;TZID=America/Chicago:20250606T130000
DTEND;TZID=America/Chicago:20250606T160000
DTSTAMP:20260422T075440
CREATED:20250110T213849Z
LAST-MODIFIED:20250110T213849Z
UID:10001870-1749214800-1749225600@www.thecommunityhousetn.org
SUMMARY:5 Loafs Food Pantry
DESCRIPTION:Drive-through distribution of Food\, Produce\, Meat\, Miscellaneous \nServing Fentress County\, and surrounding counties. \n5 Loaves Food Pantry/Vine Church\n598 Vine Ridge Rd.\, Crawford\, TN 38554 \nFridays 1 pm to 4 pm\nhttps://www.5loavestn.org/
URL:https://www.thecommunityhousetn.org/event/5-loafs-food-pantry/2025-06-06/
LOCATION:5 Loaves Food Pantry\, 598 Vine Ridge Rd.\, Crawford\, TN 38554\, Crawford\, TN\, 38554\, United States
END:VEVENT
BEGIN:VEVENT
DTSTART;TZID=America/Chicago:20250606T130000
DTEND;TZID=America/Chicago:20250606T160000
DTSTAMP:20260422T075440
CREATED:20250423T185540Z
LAST-MODIFIED:20250423T185540Z
UID:10004877-1749214800-1749225600@www.thecommunityhousetn.org
SUMMARY:5 Loaves Food Pantry/Vine Church
DESCRIPTION:This pantry is unique in that they often have meats and bread and milk\, and fresh foods as well.\n598 Vine Ridge Rd.\, Crawford\, TN 38554\nFridays 1 pm to 4 pm\nhttps://www.5loavestn.org/
URL:https://www.thecommunityhousetn.org/event/5-loaves-food-pantry-vine-church/2025-06-06/
LOCATION:5 Loaves Food Pantry\, 598 Vine Ridge Rd.\, Crawford\, TN 38554\, Crawford\, TN\, 38554\, United States
CATEGORIES:Food Pantry
END:VEVENT
BEGIN:VEVENT
DTSTART;TZID=America/Chicago:20250606T170000
DTEND;TZID=America/Chicago:20250606T180000
DTSTAMP:20260422T075440
CREATED:20250526T171615Z
LAST-MODIFIED:20250526T171752Z
UID:10006627-1749229200-1749232800@www.thecommunityhousetn.org
SUMMARY:Handfuls of Harvest Soup Kitchen
DESCRIPTION:Monday\, Tuesday\, Thursday\, Friday\nTimes can vary. 4 pm to 5 pm currently\nFree meals. Donations accepted.\n206 Gaudin Ave\, Jamestown\, TN 38556\n(931) 752-8988
URL:https://www.thecommunityhousetn.org/event/handfuls-of-harvest-soup-kitchen-3/2025-06-06/
LOCATION:Handfuls of Harvest Soup Kitchen\, 206 Gaudin Ave\, Jamestown\, TN\, 38556\, United States
END:VEVENT
BEGIN:VEVENT
DTSTART;TZID=America/Chicago:20250606T170000
DTEND;TZID=America/Chicago:20250606T180000
DTSTAMP:20260422T075440
CREATED:20250526T171859Z
LAST-MODIFIED:20250526T171902Z
UID:10007670-1749229200-1749232800@www.thecommunityhousetn.org
SUMMARY:Handfuls of Harvest Soup Kitchen
DESCRIPTION:Monday\, Tuesday\, Thursday\, Friday\nTimes can vary. 5 pm to 6 pm currently\nFree meals. Donations accepted.\n206 Gaudin Ave\, Jamestown\, TN 38556\n(931) 752-8988
URL:https://www.thecommunityhousetn.org/event/handfuls-of-harvest-soup-kitchen-2-2/2025-06-06/
LOCATION:Handfuls of Harvest Soup Kitchen\, 206 Gaudin Ave\, Jamestown\, TN\, 38556\, United States
CATEGORIES:Food Pantry
END:VEVENT
BEGIN:VEVENT
DTSTART;TZID=America/Chicago:20250609T113000
DTEND;TZID=America/Chicago:20250609T120000
DTSTAMP:20260422T075440
CREATED:20250110T214130Z
LAST-MODIFIED:20250110T214130Z
UID:10002220-1749468600-1749470400@www.thecommunityhousetn.org
SUMMARY:Jamestown Senior Center Meal Program
DESCRIPTION:Senior Center\nMonday-Friday 11:30 am to noon\nFree meals for seniors over the age of 60 and qualified companions\n308 S. Main St.\, Jamestown \nMay also apply for their home meal delivery program\nMonday – Friday\nMUST meet requirements\nCall (931) 879-7249 for a referral.
URL:https://www.thecommunityhousetn.org/event/jamestown-senior-center-meal-program/2025-06-09/
LOCATION:Jamestown Senior Center\, 308 S. Main St.\, Jamestown\, TN\, 38556\, United States
END:VEVENT
BEGIN:VEVENT
DTSTART;TZID=America/Chicago:20250609T170000
DTEND;TZID=America/Chicago:20250609T180000
DTSTAMP:20260422T075440
CREATED:20250526T171615Z
LAST-MODIFIED:20250526T171752Z
UID:10006628-1749488400-1749492000@www.thecommunityhousetn.org
SUMMARY:Handfuls of Harvest Soup Kitchen
DESCRIPTION:Monday\, Tuesday\, Thursday\, Friday\nTimes can vary. 4 pm to 5 pm currently\nFree meals. Donations accepted.\n206 Gaudin Ave\, Jamestown\, TN 38556\n(931) 752-8988
URL:https://www.thecommunityhousetn.org/event/handfuls-of-harvest-soup-kitchen-3/2025-06-09/
LOCATION:Handfuls of Harvest Soup Kitchen\, 206 Gaudin Ave\, Jamestown\, TN\, 38556\, United States
END:VEVENT
BEGIN:VEVENT
DTSTART;TZID=America/Chicago:20250609T170000
DTEND;TZID=America/Chicago:20250609T180000
DTSTAMP:20260422T075440
CREATED:20250526T171859Z
LAST-MODIFIED:20250526T171902Z
UID:10007671-1749488400-1749492000@www.thecommunityhousetn.org
SUMMARY:Handfuls of Harvest Soup Kitchen
DESCRIPTION:Monday\, Tuesday\, Thursday\, Friday\nTimes can vary. 5 pm to 6 pm currently\nFree meals. Donations accepted.\n206 Gaudin Ave\, Jamestown\, TN 38556\n(931) 752-8988
URL:https://www.thecommunityhousetn.org/event/handfuls-of-harvest-soup-kitchen-2-2/2025-06-09/
LOCATION:Handfuls of Harvest Soup Kitchen\, 206 Gaudin Ave\, Jamestown\, TN\, 38556\, United States
CATEGORIES:Food Pantry
END:VEVENT
BEGIN:VEVENT
DTSTART;TZID=America/Chicago:20250610T083000
DTEND;TZID=America/Chicago:20250610T103000
DTSTAMP:20260422T075440
CREATED:20250110T212816Z
LAST-MODIFIED:20250110T212816Z
UID:10001611-1749544200-1749551400@www.thecommunityhousetn.org
SUMMARY:Second Harvest Food Bank - Jamestown
DESCRIPTION:Produce-only distribution held at the  Jamestown Food Pantry \n511 Fairgrounds Rd.\, Jamestown\, TN \nEvery 2nd Tuesday; 8:30 am to 10:30 am
URL:https://www.thecommunityhousetn.org/event/second-harvest-food-bank-jamestown/2025-06-10/
LOCATION:Jamestown Food Pantry\, 511 Fairgrounds Rd(931) 879-1934\, Jamestown\, TN\, 38556\, United States
END:VEVENT
BEGIN:VEVENT
DTSTART;TZID=America/Chicago:20250610T083000
DTEND;TZID=America/Chicago:20250610T103000
DTSTAMP:20260422T075440
CREATED:20250423T185934Z
LAST-MODIFIED:20250423T190954Z
UID:10005134-1749544200-1749551400@www.thecommunityhousetn.org
SUMMARY:Second Harvest Food Bank
DESCRIPTION:Second Harvest Food Bank\nEvery 2nd Tuesday; 8:30 am to 10:30 am\nProduce only distribution held at the Jamestown Food Pantry\, 511 Fairgrounds Rd \n 
URL:https://www.thecommunityhousetn.org/event/second-harvest-food-bank/2025-06-10/
LOCATION:Second Harvest Food Bank\, 511 Fairgrounds Rd\, Jamestown\, TN\, 38556\, United States
CATEGORIES:Food Pantry
END:VEVENT
BEGIN:VEVENT
DTSTART;TZID=America/Chicago:20250610T083000
DTEND;TZID=America/Chicago:20250610T110000
DTSTAMP:20260422T075440
CREATED:20250110T205415Z
LAST-MODIFIED:20250218T163800Z
UID:10001366-1749544200-1749553200@www.thecommunityhousetn.org
SUMMARY:Jamestown Food Pantry
DESCRIPTION:Every Tuesday; 8:30 am to 11 am\nProvides a week of food to qualified county residents. Eligible once every 4 weeks.\nSee pantry for qualifications.\n511 Fairgrounds Rd\, Jamestown\, TN 38556
URL:https://www.thecommunityhousetn.org/event/jamestown-food-pantry/2025-06-10/
LOCATION:Jamestown Food Pantry\, 511 Fairgrounds Rd(931) 879-1934\, Jamestown\, TN\, 38556\, United States
END:VEVENT
BEGIN:VEVENT
DTSTART;TZID=America/Chicago:20250610T100000
DTEND;TZID=America/Chicago:20250610T120000
DTSTAMP:20260422T075440
CREATED:20250110T210354Z
LAST-MODIFIED:20250110T212321Z
UID:10000064-1749549600-1749556800@www.thecommunityhousetn.org
SUMMARY:Methodist Church Food Pantry
DESCRIPTION:Every Tuesday 10 am to noon\n102 E Church Street\, Jamestown\n(931) 879-7816
URL:https://www.thecommunityhousetn.org/event/methodist-church-food-pantry/2025-06-10/
LOCATION:Methodist Church Food Pantry\, 102 E Church Street\, Jamestown\, TN\, 38556\, United States
END:VEVENT
BEGIN:VEVENT
DTSTART;TZID=America/Chicago:20250610T100000
DTEND;TZID=America/Chicago:20250610T120000
DTSTAMP:20260422T075440
CREATED:20250423T183259Z
LAST-MODIFIED:20250423T183259Z
UID:10004551-1749549600-1749556800@www.thecommunityhousetn.org
SUMMARY:Methodist Church Food Pantry
DESCRIPTION:Every Tuesday 10 am to noon\n102 E Church Street\, Jamestown\n(931) 879-7816
URL:https://www.thecommunityhousetn.org/event/methodist-church-food-pantry-2/2025-06-10/
LOCATION:Methodist Church Food Pantry\, 102 E Church Street\, Jamestown\, TN\, 38556\, United States
CATEGORIES:Food Pantry
END:VEVENT
BEGIN:VEVENT
DTSTART;TZID=America/Chicago:20250610T113000
DTEND;TZID=America/Chicago:20250610T120000
DTSTAMP:20260422T075440
CREATED:20250110T214130Z
LAST-MODIFIED:20250110T214130Z
UID:10002221-1749555000-1749556800@www.thecommunityhousetn.org
SUMMARY:Jamestown Senior Center Meal Program
DESCRIPTION:Senior Center\nMonday-Friday 11:30 am to noon\nFree meals for seniors over the age of 60 and qualified companions\n308 S. Main St.\, Jamestown \nMay also apply for their home meal delivery program\nMonday – Friday\nMUST meet requirements\nCall (931) 879-7249 for a referral.
URL:https://www.thecommunityhousetn.org/event/jamestown-senior-center-meal-program/2025-06-10/
LOCATION:Jamestown Senior Center\, 308 S. Main St.\, Jamestown\, TN\, 38556\, United States
END:VEVENT
BEGIN:VEVENT
DTSTART;TZID=America/Chicago:20250610T170000
DTEND;TZID=America/Chicago:20250610T180000
DTSTAMP:20260422T075440
CREATED:20250526T171615Z
LAST-MODIFIED:20250526T171752Z
UID:10006629-1749574800-1749578400@www.thecommunityhousetn.org
SUMMARY:Handfuls of Harvest Soup Kitchen
DESCRIPTION:Monday\, Tuesday\, Thursday\, Friday\nTimes can vary. 4 pm to 5 pm currently\nFree meals. Donations accepted.\n206 Gaudin Ave\, Jamestown\, TN 38556\n(931) 752-8988
URL:https://www.thecommunityhousetn.org/event/handfuls-of-harvest-soup-kitchen-3/2025-06-10/
LOCATION:Handfuls of Harvest Soup Kitchen\, 206 Gaudin Ave\, Jamestown\, TN\, 38556\, United States
END:VEVENT
BEGIN:VEVENT
DTSTART;TZID=America/Chicago:20250610T170000
DTEND;TZID=America/Chicago:20250610T180000
DTSTAMP:20260422T075440
CREATED:20250526T171859Z
LAST-MODIFIED:20250526T171902Z
UID:10007672-1749574800-1749578400@www.thecommunityhousetn.org
SUMMARY:Handfuls of Harvest Soup Kitchen
DESCRIPTION:Monday\, Tuesday\, Thursday\, Friday\nTimes can vary. 5 pm to 6 pm currently\nFree meals. Donations accepted.\n206 Gaudin Ave\, Jamestown\, TN 38556\n(931) 752-8988
URL:https://www.thecommunityhousetn.org/event/handfuls-of-harvest-soup-kitchen-2-2/2025-06-10/
LOCATION:Handfuls of Harvest Soup Kitchen\, 206 Gaudin Ave\, Jamestown\, TN\, 38556\, United States
CATEGORIES:Food Pantry
END:VEVENT
END:VCALENDAR