BEGIN:VCALENDAR
VERSION:2.0
PRODID:-//The Community House Inc - ECPv6.15.20//NONSGML v1.0//EN
CALSCALE:GREGORIAN
METHOD:PUBLISH
X-ORIGINAL-URL:https://www.thecommunityhousetn.org
X-WR-CALDESC:Events for The Community House Inc
REFRESH-INTERVAL;VALUE=DURATION:PT1H
X-Robots-Tag:noindex
X-PUBLISHED-TTL:PT1H
BEGIN:VTIMEZONE
TZID:America/Chicago
BEGIN:DAYLIGHT
TZOFFSETFROM:-0600
TZOFFSETTO:-0500
TZNAME:CDT
DTSTART:20250309T080000
END:DAYLIGHT
BEGIN:STANDARD
TZOFFSETFROM:-0500
TZOFFSETTO:-0600
TZNAME:CST
DTSTART:20251102T070000
END:STANDARD
BEGIN:DAYLIGHT
TZOFFSETFROM:-0600
TZOFFSETTO:-0500
TZNAME:CDT
DTSTART:20260308T080000
END:DAYLIGHT
BEGIN:STANDARD
TZOFFSETFROM:-0500
TZOFFSETTO:-0600
TZNAME:CST
DTSTART:20261101T070000
END:STANDARD
BEGIN:DAYLIGHT
TZOFFSETFROM:-0600
TZOFFSETTO:-0500
TZNAME:CDT
DTSTART:20270314T080000
END:DAYLIGHT
BEGIN:STANDARD
TZOFFSETFROM:-0500
TZOFFSETTO:-0600
TZNAME:CST
DTSTART:20271107T070000
END:STANDARD
END:VTIMEZONE
BEGIN:VEVENT
DTSTART;TZID=America/Chicago:20261102T170000
DTEND;TZID=America/Chicago:20261102T180000
DTSTAMP:20260422T042918
CREATED:20250526T171859Z
LAST-MODIFIED:20250526T171902Z
UID:10007963-1793638800-1793642400@www.thecommunityhousetn.org
SUMMARY:Handfuls of Harvest Soup Kitchen
DESCRIPTION:Monday\, Tuesday\, Thursday\, Friday\nTimes can vary. 5 pm to 6 pm currently\nFree meals. Donations accepted.\n206 Gaudin Ave\, Jamestown\, TN 38556\n(931) 752-8988
URL:https://www.thecommunityhousetn.org/event/handfuls-of-harvest-soup-kitchen-2-2/2026-11-02/
LOCATION:Handfuls of Harvest Soup Kitchen\, 206 Gaudin Ave\, Jamestown\, TN\, 38556\, United States
CATEGORIES:Food Pantry
END:VEVENT
BEGIN:VEVENT
DTSTART;TZID=America/Chicago:20261103T100000
DTEND;TZID=America/Chicago:20261103T120000
DTSTAMP:20260422T042918
CREATED:20250423T183259Z
LAST-MODIFIED:20250423T183259Z
UID:10004624-1793700000-1793707200@www.thecommunityhousetn.org
SUMMARY:Methodist Church Food Pantry
DESCRIPTION:Every Tuesday 10 am to noon\n102 E Church Street\, Jamestown\n(931) 879-7816
URL:https://www.thecommunityhousetn.org/event/methodist-church-food-pantry-2/2026-11-03/
LOCATION:Methodist Church Food Pantry\, 102 E Church Street\, Jamestown\, TN\, 38556\, United States
CATEGORIES:Food Pantry
END:VEVENT
BEGIN:VEVENT
DTSTART;TZID=America/Chicago:20261103T170000
DTEND;TZID=America/Chicago:20261103T180000
DTSTAMP:20260422T042918
CREATED:20250526T171859Z
LAST-MODIFIED:20250526T171902Z
UID:10007964-1793725200-1793728800@www.thecommunityhousetn.org
SUMMARY:Handfuls of Harvest Soup Kitchen
DESCRIPTION:Monday\, Tuesday\, Thursday\, Friday\nTimes can vary. 5 pm to 6 pm currently\nFree meals. Donations accepted.\n206 Gaudin Ave\, Jamestown\, TN 38556\n(931) 752-8988
URL:https://www.thecommunityhousetn.org/event/handfuls-of-harvest-soup-kitchen-2-2/2026-11-03/
LOCATION:Handfuls of Harvest Soup Kitchen\, 206 Gaudin Ave\, Jamestown\, TN\, 38556\, United States
CATEGORIES:Food Pantry
END:VEVENT
BEGIN:VEVENT
DTSTART;TZID=America/Chicago:20261105T130000
DTEND;TZID=America/Chicago:20261105T160000
DTSTAMP:20260422T042918
CREATED:20250526T171256Z
LAST-MODIFIED:20250526T171256Z
UID:10006435-1793883600-1793894400@www.thecommunityhousetn.org
SUMMARY:Refresh & Refuel Outreach
DESCRIPTION:“Refresh & Refuel” is a weekly Outreach on Thursday afternoons from 1:00 to 4:00 pm. The outreach offers access to a hot shower\, made-to-order sandwiches\, hygiene items\,  clothing\, and more for the area’s needy or unsheltered. \nLocated at the First Baptist Church Family Life Center in Jamestown. \n Coordinated by The Community House\, the outreach is staffed by volunteers from numerous area nonprofits and churches.  \nFuture plans include access to laundry facilities\, haircuts\, and more.
URL:https://www.thecommunityhousetn.org/event/refresh-refuel-outreach/2026-11-05/
LOCATION:Family Life Center\, FJB\, 360 East Central Avenue\, Jamestown\, TN\, 38556\, United States
CATEGORIES:Food Pantry
ORGANIZER;CN="The Community House":MAILTO:info@thecommunityhouseTN.org
END:VEVENT
BEGIN:VEVENT
DTSTART;TZID=America/Chicago:20261105T170000
DTEND;TZID=America/Chicago:20261105T180000
DTSTAMP:20260422T042918
CREATED:20250526T171859Z
LAST-MODIFIED:20250526T171902Z
UID:10007965-1793898000-1793901600@www.thecommunityhousetn.org
SUMMARY:Handfuls of Harvest Soup Kitchen
DESCRIPTION:Monday\, Tuesday\, Thursday\, Friday\nTimes can vary. 5 pm to 6 pm currently\nFree meals. Donations accepted.\n206 Gaudin Ave\, Jamestown\, TN 38556\n(931) 752-8988
URL:https://www.thecommunityhousetn.org/event/handfuls-of-harvest-soup-kitchen-2-2/2026-11-05/
LOCATION:Handfuls of Harvest Soup Kitchen\, 206 Gaudin Ave\, Jamestown\, TN\, 38556\, United States
CATEGORIES:Food Pantry
END:VEVENT
BEGIN:VEVENT
DTSTART;TZID=America/Chicago:20261106T130000
DTEND;TZID=America/Chicago:20261106T160000
DTSTAMP:20260422T042918
CREATED:20250423T185540Z
LAST-MODIFIED:20250423T185540Z
UID:10004951-1793970000-1793980800@www.thecommunityhousetn.org
SUMMARY:5 Loaves Food Pantry/Vine Church
DESCRIPTION:This pantry is unique in that they often have meats and bread and milk\, and fresh foods as well.\n598 Vine Ridge Rd.\, Crawford\, TN 38554\nFridays 1 pm to 4 pm\nhttps://www.5loavestn.org/
URL:https://www.thecommunityhousetn.org/event/5-loaves-food-pantry-vine-church/2026-11-06/
LOCATION:5 Loaves Food Pantry\, 598 Vine Ridge Rd.\, Crawford\, TN 38554\, Crawford\, TN\, 38554\, United States
CATEGORIES:Food Pantry
END:VEVENT
BEGIN:VEVENT
DTSTART;TZID=America/Chicago:20261106T170000
DTEND;TZID=America/Chicago:20261106T180000
DTSTAMP:20260422T042918
CREATED:20250526T171859Z
LAST-MODIFIED:20250526T171902Z
UID:10007966-1793984400-1793988000@www.thecommunityhousetn.org
SUMMARY:Handfuls of Harvest Soup Kitchen
DESCRIPTION:Monday\, Tuesday\, Thursday\, Friday\nTimes can vary. 5 pm to 6 pm currently\nFree meals. Donations accepted.\n206 Gaudin Ave\, Jamestown\, TN 38556\n(931) 752-8988
URL:https://www.thecommunityhousetn.org/event/handfuls-of-harvest-soup-kitchen-2-2/2026-11-06/
LOCATION:Handfuls of Harvest Soup Kitchen\, 206 Gaudin Ave\, Jamestown\, TN\, 38556\, United States
CATEGORIES:Food Pantry
END:VEVENT
BEGIN:VEVENT
DTSTART;TZID=America/Chicago:20261109T170000
DTEND;TZID=America/Chicago:20261109T180000
DTSTAMP:20260422T042918
CREATED:20250526T171859Z
LAST-MODIFIED:20250526T171902Z
UID:10007967-1794243600-1794247200@www.thecommunityhousetn.org
SUMMARY:Handfuls of Harvest Soup Kitchen
DESCRIPTION:Monday\, Tuesday\, Thursday\, Friday\nTimes can vary. 5 pm to 6 pm currently\nFree meals. Donations accepted.\n206 Gaudin Ave\, Jamestown\, TN 38556\n(931) 752-8988
URL:https://www.thecommunityhousetn.org/event/handfuls-of-harvest-soup-kitchen-2-2/2026-11-09/
LOCATION:Handfuls of Harvest Soup Kitchen\, 206 Gaudin Ave\, Jamestown\, TN\, 38556\, United States
CATEGORIES:Food Pantry
END:VEVENT
BEGIN:VEVENT
DTSTART;TZID=America/Chicago:20261110T083000
DTEND;TZID=America/Chicago:20261110T103000
DTSTAMP:20260422T042918
CREATED:20250423T185934Z
LAST-MODIFIED:20250423T190954Z
UID:10005151-1794299400-1794306600@www.thecommunityhousetn.org
SUMMARY:Second Harvest Food Bank
DESCRIPTION:Second Harvest Food Bank\nEvery 2nd Tuesday; 8:30 am to 10:30 am\nProduce only distribution held at the Jamestown Food Pantry\, 511 Fairgrounds Rd \n 
URL:https://www.thecommunityhousetn.org/event/second-harvest-food-bank/2026-11-10/
LOCATION:Second Harvest Food Bank\, 511 Fairgrounds Rd\, Jamestown\, TN\, 38556\, United States
CATEGORIES:Food Pantry
END:VEVENT
BEGIN:VEVENT
DTSTART;TZID=America/Chicago:20261110T100000
DTEND;TZID=America/Chicago:20261110T120000
DTSTAMP:20260422T042918
CREATED:20250423T183259Z
LAST-MODIFIED:20250423T183259Z
UID:10004625-1794304800-1794312000@www.thecommunityhousetn.org
SUMMARY:Methodist Church Food Pantry
DESCRIPTION:Every Tuesday 10 am to noon\n102 E Church Street\, Jamestown\n(931) 879-7816
URL:https://www.thecommunityhousetn.org/event/methodist-church-food-pantry-2/2026-11-10/
LOCATION:Methodist Church Food Pantry\, 102 E Church Street\, Jamestown\, TN\, 38556\, United States
CATEGORIES:Food Pantry
END:VEVENT
BEGIN:VEVENT
DTSTART;TZID=America/Chicago:20261110T170000
DTEND;TZID=America/Chicago:20261110T180000
DTSTAMP:20260422T042918
CREATED:20250526T171859Z
LAST-MODIFIED:20250526T171902Z
UID:10007968-1794330000-1794333600@www.thecommunityhousetn.org
SUMMARY:Handfuls of Harvest Soup Kitchen
DESCRIPTION:Monday\, Tuesday\, Thursday\, Friday\nTimes can vary. 5 pm to 6 pm currently\nFree meals. Donations accepted.\n206 Gaudin Ave\, Jamestown\, TN 38556\n(931) 752-8988
URL:https://www.thecommunityhousetn.org/event/handfuls-of-harvest-soup-kitchen-2-2/2026-11-10/
LOCATION:Handfuls of Harvest Soup Kitchen\, 206 Gaudin Ave\, Jamestown\, TN\, 38556\, United States
CATEGORIES:Food Pantry
END:VEVENT
BEGIN:VEVENT
DTSTART;TZID=America/Chicago:20261112T100000
DTEND;TZID=America/Chicago:20261112T120000
DTSTAMP:20260422T042918
CREATED:20250423T191443Z
LAST-MODIFIED:20250423T191443Z
UID:10005273-1794477600-1794484800@www.thecommunityhousetn.org
SUMMARY:7th Day Adventist Church
DESCRIPTION:2nd Thursday\, food distribution\,\n10 am to 12 pm\n1103 McGhee Rd\, Jamestown\n931-879-1747
URL:https://www.thecommunityhousetn.org/event/7th-day-adventist-church/2026-11-12/
LOCATION:7th Day Adventist Church\, 1103 McGhee Rd\, Jamestown\, TN\, 38556\, United States
CATEGORIES:Food Pantry
END:VEVENT
BEGIN:VEVENT
DTSTART;TZID=America/Chicago:20261112T130000
DTEND;TZID=America/Chicago:20261112T160000
DTSTAMP:20260422T042918
CREATED:20250526T171256Z
LAST-MODIFIED:20250526T171256Z
UID:10006436-1794488400-1794499200@www.thecommunityhousetn.org
SUMMARY:Refresh & Refuel Outreach
DESCRIPTION:“Refresh & Refuel” is a weekly Outreach on Thursday afternoons from 1:00 to 4:00 pm. The outreach offers access to a hot shower\, made-to-order sandwiches\, hygiene items\,  clothing\, and more for the area’s needy or unsheltered. \nLocated at the First Baptist Church Family Life Center in Jamestown. \n Coordinated by The Community House\, the outreach is staffed by volunteers from numerous area nonprofits and churches.  \nFuture plans include access to laundry facilities\, haircuts\, and more.
URL:https://www.thecommunityhousetn.org/event/refresh-refuel-outreach/2026-11-12/
LOCATION:Family Life Center\, FJB\, 360 East Central Avenue\, Jamestown\, TN\, 38556\, United States
CATEGORIES:Food Pantry
ORGANIZER;CN="The Community House":MAILTO:info@thecommunityhouseTN.org
END:VEVENT
BEGIN:VEVENT
DTSTART;TZID=America/Chicago:20261112T170000
DTEND;TZID=America/Chicago:20261112T180000
DTSTAMP:20260422T042918
CREATED:20250526T171859Z
LAST-MODIFIED:20250526T171902Z
UID:10007969-1794502800-1794506400@www.thecommunityhousetn.org
SUMMARY:Handfuls of Harvest Soup Kitchen
DESCRIPTION:Monday\, Tuesday\, Thursday\, Friday\nTimes can vary. 5 pm to 6 pm currently\nFree meals. Donations accepted.\n206 Gaudin Ave\, Jamestown\, TN 38556\n(931) 752-8988
URL:https://www.thecommunityhousetn.org/event/handfuls-of-harvest-soup-kitchen-2-2/2026-11-12/
LOCATION:Handfuls of Harvest Soup Kitchen\, 206 Gaudin Ave\, Jamestown\, TN\, 38556\, United States
CATEGORIES:Food Pantry
END:VEVENT
BEGIN:VEVENT
DTSTART;TZID=America/Chicago:20261113T130000
DTEND;TZID=America/Chicago:20261113T160000
DTSTAMP:20260422T042918
CREATED:20250423T185540Z
LAST-MODIFIED:20250423T185540Z
UID:10004952-1794574800-1794585600@www.thecommunityhousetn.org
SUMMARY:5 Loaves Food Pantry/Vine Church
DESCRIPTION:This pantry is unique in that they often have meats and bread and milk\, and fresh foods as well.\n598 Vine Ridge Rd.\, Crawford\, TN 38554\nFridays 1 pm to 4 pm\nhttps://www.5loavestn.org/
URL:https://www.thecommunityhousetn.org/event/5-loaves-food-pantry-vine-church/2026-11-13/
LOCATION:5 Loaves Food Pantry\, 598 Vine Ridge Rd.\, Crawford\, TN 38554\, Crawford\, TN\, 38554\, United States
CATEGORIES:Food Pantry
END:VEVENT
BEGIN:VEVENT
DTSTART;TZID=America/Chicago:20261113T170000
DTEND;TZID=America/Chicago:20261113T180000
DTSTAMP:20260422T042918
CREATED:20250526T171859Z
LAST-MODIFIED:20250526T171902Z
UID:10007970-1794589200-1794592800@www.thecommunityhousetn.org
SUMMARY:Handfuls of Harvest Soup Kitchen
DESCRIPTION:Monday\, Tuesday\, Thursday\, Friday\nTimes can vary. 5 pm to 6 pm currently\nFree meals. Donations accepted.\n206 Gaudin Ave\, Jamestown\, TN 38556\n(931) 752-8988
URL:https://www.thecommunityhousetn.org/event/handfuls-of-harvest-soup-kitchen-2-2/2026-11-13/
LOCATION:Handfuls of Harvest Soup Kitchen\, 206 Gaudin Ave\, Jamestown\, TN\, 38556\, United States
CATEGORIES:Food Pantry
END:VEVENT
BEGIN:VEVENT
DTSTART;TZID=America/Chicago:20261116T170000
DTEND;TZID=America/Chicago:20261116T180000
DTSTAMP:20260422T042918
CREATED:20250526T171859Z
LAST-MODIFIED:20250526T171902Z
UID:10007971-1794848400-1794852000@www.thecommunityhousetn.org
SUMMARY:Handfuls of Harvest Soup Kitchen
DESCRIPTION:Monday\, Tuesday\, Thursday\, Friday\nTimes can vary. 5 pm to 6 pm currently\nFree meals. Donations accepted.\n206 Gaudin Ave\, Jamestown\, TN 38556\n(931) 752-8988
URL:https://www.thecommunityhousetn.org/event/handfuls-of-harvest-soup-kitchen-2-2/2026-11-16/
LOCATION:Handfuls of Harvest Soup Kitchen\, 206 Gaudin Ave\, Jamestown\, TN\, 38556\, United States
CATEGORIES:Food Pantry
END:VEVENT
BEGIN:VEVENT
DTSTART;TZID=America/Chicago:20261117T100000
DTEND;TZID=America/Chicago:20261117T120000
DTSTAMP:20260422T042918
CREATED:20250423T183259Z
LAST-MODIFIED:20250423T183259Z
UID:10004626-1794909600-1794916800@www.thecommunityhousetn.org
SUMMARY:Methodist Church Food Pantry
DESCRIPTION:Every Tuesday 10 am to noon\n102 E Church Street\, Jamestown\n(931) 879-7816
URL:https://www.thecommunityhousetn.org/event/methodist-church-food-pantry-2/2026-11-17/
LOCATION:Methodist Church Food Pantry\, 102 E Church Street\, Jamestown\, TN\, 38556\, United States
CATEGORIES:Food Pantry
END:VEVENT
BEGIN:VEVENT
DTSTART;TZID=America/Chicago:20261117T170000
DTEND;TZID=America/Chicago:20261117T180000
DTSTAMP:20260422T042918
CREATED:20250526T171859Z
LAST-MODIFIED:20250526T171902Z
UID:10007972-1794934800-1794938400@www.thecommunityhousetn.org
SUMMARY:Handfuls of Harvest Soup Kitchen
DESCRIPTION:Monday\, Tuesday\, Thursday\, Friday\nTimes can vary. 5 pm to 6 pm currently\nFree meals. Donations accepted.\n206 Gaudin Ave\, Jamestown\, TN 38556\n(931) 752-8988
URL:https://www.thecommunityhousetn.org/event/handfuls-of-harvest-soup-kitchen-2-2/2026-11-17/
LOCATION:Handfuls of Harvest Soup Kitchen\, 206 Gaudin Ave\, Jamestown\, TN\, 38556\, United States
CATEGORIES:Food Pantry
END:VEVENT
BEGIN:VEVENT
DTSTART;TZID=America/Chicago:20261119T100000
DTEND;TZID=America/Chicago:20261119T130000
DTSTAMP:20260422T042918
CREATED:20250423T191248Z
LAST-MODIFIED:20250423T191248Z
UID:10005212-1795082400-1795093200@www.thecommunityhousetn.org
SUMMARY:Second Harvest Food Bank Clarkrange
DESCRIPTION:Drive thru full pantry distribution\nSouth Fentress Park\n6233 York Hwy\, Clarkrange \nEvery 3rd Tuesday; 10 am to 1 pm
URL:https://www.thecommunityhousetn.org/event/second-harvest-food-bank-clarkrange-2/2026-11-19/
LOCATION:Second Harves Food Bank Clarkrange\, 6233 York Hwy\, Clarkrange\, Clarkrange\, TN\, 38556\, United States
CATEGORIES:Food Pantry
END:VEVENT
BEGIN:VEVENT
DTSTART;TZID=America/Chicago:20261119T130000
DTEND;TZID=America/Chicago:20261119T160000
DTSTAMP:20260422T042918
CREATED:20250526T171256Z
LAST-MODIFIED:20250526T171256Z
UID:10006437-1795093200-1795104000@www.thecommunityhousetn.org
SUMMARY:Refresh & Refuel Outreach
DESCRIPTION:“Refresh & Refuel” is a weekly Outreach on Thursday afternoons from 1:00 to 4:00 pm. The outreach offers access to a hot shower\, made-to-order sandwiches\, hygiene items\,  clothing\, and more for the area’s needy or unsheltered. \nLocated at the First Baptist Church Family Life Center in Jamestown. \n Coordinated by The Community House\, the outreach is staffed by volunteers from numerous area nonprofits and churches.  \nFuture plans include access to laundry facilities\, haircuts\, and more.
URL:https://www.thecommunityhousetn.org/event/refresh-refuel-outreach/2026-11-19/
LOCATION:Family Life Center\, FJB\, 360 East Central Avenue\, Jamestown\, TN\, 38556\, United States
CATEGORIES:Food Pantry
ORGANIZER;CN="The Community House":MAILTO:info@thecommunityhouseTN.org
END:VEVENT
BEGIN:VEVENT
DTSTART;TZID=America/Chicago:20261119T170000
DTEND;TZID=America/Chicago:20261119T180000
DTSTAMP:20260422T042918
CREATED:20250526T171859Z
LAST-MODIFIED:20250526T171902Z
UID:10007973-1795107600-1795111200@www.thecommunityhousetn.org
SUMMARY:Handfuls of Harvest Soup Kitchen
DESCRIPTION:Monday\, Tuesday\, Thursday\, Friday\nTimes can vary. 5 pm to 6 pm currently\nFree meals. Donations accepted.\n206 Gaudin Ave\, Jamestown\, TN 38556\n(931) 752-8988
URL:https://www.thecommunityhousetn.org/event/handfuls-of-harvest-soup-kitchen-2-2/2026-11-19/
LOCATION:Handfuls of Harvest Soup Kitchen\, 206 Gaudin Ave\, Jamestown\, TN\, 38556\, United States
CATEGORIES:Food Pantry
END:VEVENT
BEGIN:VEVENT
DTSTART;TZID=America/Chicago:20261120T130000
DTEND;TZID=America/Chicago:20261120T160000
DTSTAMP:20260422T042918
CREATED:20250423T185540Z
LAST-MODIFIED:20250423T185540Z
UID:10004953-1795179600-1795190400@www.thecommunityhousetn.org
SUMMARY:5 Loaves Food Pantry/Vine Church
DESCRIPTION:This pantry is unique in that they often have meats and bread and milk\, and fresh foods as well.\n598 Vine Ridge Rd.\, Crawford\, TN 38554\nFridays 1 pm to 4 pm\nhttps://www.5loavestn.org/
URL:https://www.thecommunityhousetn.org/event/5-loaves-food-pantry-vine-church/2026-11-20/
LOCATION:5 Loaves Food Pantry\, 598 Vine Ridge Rd.\, Crawford\, TN 38554\, Crawford\, TN\, 38554\, United States
CATEGORIES:Food Pantry
END:VEVENT
BEGIN:VEVENT
DTSTART;TZID=America/Chicago:20261120T170000
DTEND;TZID=America/Chicago:20261120T180000
DTSTAMP:20260422T042918
CREATED:20250526T171859Z
LAST-MODIFIED:20250526T171902Z
UID:10007974-1795194000-1795197600@www.thecommunityhousetn.org
SUMMARY:Handfuls of Harvest Soup Kitchen
DESCRIPTION:Monday\, Tuesday\, Thursday\, Friday\nTimes can vary. 5 pm to 6 pm currently\nFree meals. Donations accepted.\n206 Gaudin Ave\, Jamestown\, TN 38556\n(931) 752-8988
URL:https://www.thecommunityhousetn.org/event/handfuls-of-harvest-soup-kitchen-2-2/2026-11-20/
LOCATION:Handfuls of Harvest Soup Kitchen\, 206 Gaudin Ave\, Jamestown\, TN\, 38556\, United States
CATEGORIES:Food Pantry
END:VEVENT
BEGIN:VEVENT
DTSTART;TZID=America/Chicago:20261123T170000
DTEND;TZID=America/Chicago:20261123T180000
DTSTAMP:20260422T042918
CREATED:20250526T171859Z
LAST-MODIFIED:20250526T171902Z
UID:10007975-1795453200-1795456800@www.thecommunityhousetn.org
SUMMARY:Handfuls of Harvest Soup Kitchen
DESCRIPTION:Monday\, Tuesday\, Thursday\, Friday\nTimes can vary. 5 pm to 6 pm currently\nFree meals. Donations accepted.\n206 Gaudin Ave\, Jamestown\, TN 38556\n(931) 752-8988
URL:https://www.thecommunityhousetn.org/event/handfuls-of-harvest-soup-kitchen-2-2/2026-11-23/
LOCATION:Handfuls of Harvest Soup Kitchen\, 206 Gaudin Ave\, Jamestown\, TN\, 38556\, United States
CATEGORIES:Food Pantry
END:VEVENT
BEGIN:VEVENT
DTSTART;TZID=America/Chicago:20261124T100000
DTEND;TZID=America/Chicago:20261124T120000
DTSTAMP:20260422T042918
CREATED:20250423T183259Z
LAST-MODIFIED:20250423T183259Z
UID:10004627-1795514400-1795521600@www.thecommunityhousetn.org
SUMMARY:Methodist Church Food Pantry
DESCRIPTION:Every Tuesday 10 am to noon\n102 E Church Street\, Jamestown\n(931) 879-7816
URL:https://www.thecommunityhousetn.org/event/methodist-church-food-pantry-2/2026-11-24/
LOCATION:Methodist Church Food Pantry\, 102 E Church Street\, Jamestown\, TN\, 38556\, United States
CATEGORIES:Food Pantry
END:VEVENT
BEGIN:VEVENT
DTSTART;TZID=America/Chicago:20261124T160000
DTEND;TZID=America/Chicago:20261124T180000
DTSTAMP:20260422T042918
CREATED:20250423T183634Z
LAST-MODIFIED:20250423T183634Z
UID:10004826-1795536000-1795543200@www.thecommunityhousetn.org
SUMMARY:Pine Haven Baptist Church
DESCRIPTION:Last Tuesday of every month; 4 pm to 6 pm\nNonperishable foods\, clothing\, others\n829 N York Hwy\, Jamestown\n(931) 310-9862
URL:https://www.thecommunityhousetn.org/event/pine-haven-baptist-church-2/2026-11-24/
LOCATION:Pine Haven Baptist Church\, 829 N York Hwy\, Jamestown\, TN\, 38556\, United States
CATEGORIES:Food Pantry
END:VEVENT
BEGIN:VEVENT
DTSTART;TZID=America/Chicago:20261124T170000
DTEND;TZID=America/Chicago:20261124T180000
DTSTAMP:20260422T042918
CREATED:20250526T171859Z
LAST-MODIFIED:20250526T171902Z
UID:10007976-1795539600-1795543200@www.thecommunityhousetn.org
SUMMARY:Handfuls of Harvest Soup Kitchen
DESCRIPTION:Monday\, Tuesday\, Thursday\, Friday\nTimes can vary. 5 pm to 6 pm currently\nFree meals. Donations accepted.\n206 Gaudin Ave\, Jamestown\, TN 38556\n(931) 752-8988
URL:https://www.thecommunityhousetn.org/event/handfuls-of-harvest-soup-kitchen-2-2/2026-11-24/
LOCATION:Handfuls of Harvest Soup Kitchen\, 206 Gaudin Ave\, Jamestown\, TN\, 38556\, United States
CATEGORIES:Food Pantry
END:VEVENT
BEGIN:VEVENT
DTSTART;TZID=America/Chicago:20261126T130000
DTEND;TZID=America/Chicago:20261126T160000
DTSTAMP:20260422T042918
CREATED:20250526T171256Z
LAST-MODIFIED:20250526T171256Z
UID:10006438-1795698000-1795708800@www.thecommunityhousetn.org
SUMMARY:Refresh & Refuel Outreach
DESCRIPTION:“Refresh & Refuel” is a weekly Outreach on Thursday afternoons from 1:00 to 4:00 pm. The outreach offers access to a hot shower\, made-to-order sandwiches\, hygiene items\,  clothing\, and more for the area’s needy or unsheltered. \nLocated at the First Baptist Church Family Life Center in Jamestown. \n Coordinated by The Community House\, the outreach is staffed by volunteers from numerous area nonprofits and churches.  \nFuture plans include access to laundry facilities\, haircuts\, and more.
URL:https://www.thecommunityhousetn.org/event/refresh-refuel-outreach/2026-11-26/
LOCATION:Family Life Center\, FJB\, 360 East Central Avenue\, Jamestown\, TN\, 38556\, United States
CATEGORIES:Food Pantry
ORGANIZER;CN="The Community House":MAILTO:info@thecommunityhouseTN.org
END:VEVENT
BEGIN:VEVENT
DTSTART;TZID=America/Chicago:20261126T170000
DTEND;TZID=America/Chicago:20261126T180000
DTSTAMP:20260422T042918
CREATED:20250526T171859Z
LAST-MODIFIED:20250526T171902Z
UID:10007977-1795712400-1795716000@www.thecommunityhousetn.org
SUMMARY:Handfuls of Harvest Soup Kitchen
DESCRIPTION:Monday\, Tuesday\, Thursday\, Friday\nTimes can vary. 5 pm to 6 pm currently\nFree meals. Donations accepted.\n206 Gaudin Ave\, Jamestown\, TN 38556\n(931) 752-8988
URL:https://www.thecommunityhousetn.org/event/handfuls-of-harvest-soup-kitchen-2-2/2026-11-26/
LOCATION:Handfuls of Harvest Soup Kitchen\, 206 Gaudin Ave\, Jamestown\, TN\, 38556\, United States
CATEGORIES:Food Pantry
END:VEVENT
END:VCALENDAR