BEGIN:VCALENDAR
VERSION:2.0
PRODID:-//The Community House Inc - ECPv6.15.20//NONSGML v1.0//EN
CALSCALE:GREGORIAN
METHOD:PUBLISH
X-WR-CALNAME:The Community House Inc
X-ORIGINAL-URL:https://www.thecommunityhousetn.org
X-WR-CALDESC:Events for The Community House Inc
REFRESH-INTERVAL;VALUE=DURATION:PT1H
X-Robots-Tag:noindex
X-PUBLISHED-TTL:PT1H
BEGIN:VTIMEZONE
TZID:America/Chicago
BEGIN:DAYLIGHT
TZOFFSETFROM:-0600
TZOFFSETTO:-0500
TZNAME:CDT
DTSTART:20250309T080000
END:DAYLIGHT
BEGIN:STANDARD
TZOFFSETFROM:-0500
TZOFFSETTO:-0600
TZNAME:CST
DTSTART:20251102T070000
END:STANDARD
BEGIN:DAYLIGHT
TZOFFSETFROM:-0600
TZOFFSETTO:-0500
TZNAME:CDT
DTSTART:20260308T080000
END:DAYLIGHT
BEGIN:STANDARD
TZOFFSETFROM:-0500
TZOFFSETTO:-0600
TZNAME:CST
DTSTART:20261101T070000
END:STANDARD
BEGIN:DAYLIGHT
TZOFFSETFROM:-0600
TZOFFSETTO:-0500
TZNAME:CDT
DTSTART:20270314T080000
END:DAYLIGHT
BEGIN:STANDARD
TZOFFSETFROM:-0500
TZOFFSETTO:-0600
TZNAME:CST
DTSTART:20271107T070000
END:STANDARD
END:VTIMEZONE
BEGIN:VEVENT
DTSTART;TZID=America/Chicago:20261001T130000
DTEND;TZID=America/Chicago:20261001T160000
DTSTAMP:20260420T013906
CREATED:20250526T171256Z
LAST-MODIFIED:20250526T171256Z
UID:10006430-1790859600-1790870400@www.thecommunityhousetn.org
SUMMARY:Refresh & Refuel Outreach
DESCRIPTION:“Refresh & Refuel” is a weekly Outreach on Thursday afternoons from 1:00 to 4:00 pm. The outreach offers access to a hot shower\, made-to-order sandwiches\, hygiene items\,  clothing\, and more for the area’s needy or unsheltered. \nLocated at the First Baptist Church Family Life Center in Jamestown. \n Coordinated by The Community House\, the outreach is staffed by volunteers from numerous area nonprofits and churches.  \nFuture plans include access to laundry facilities\, haircuts\, and more.
URL:https://www.thecommunityhousetn.org/event/refresh-refuel-outreach/2026-10-01/
LOCATION:Family Life Center\, FJB\, 360 East Central Avenue\, Jamestown\, TN\, 38556\, United States
CATEGORIES:Food Pantry
ORGANIZER;CN="The Community House":MAILTO:info@thecommunityhouseTN.org
END:VEVENT
BEGIN:VEVENT
DTSTART;TZID=America/Chicago:20261001T170000
DTEND;TZID=America/Chicago:20261001T180000
DTSTAMP:20260420T013906
CREATED:20250526T171859Z
LAST-MODIFIED:20250526T171902Z
UID:10007945-1790874000-1790877600@www.thecommunityhousetn.org
SUMMARY:Handfuls of Harvest Soup Kitchen
DESCRIPTION:Monday\, Tuesday\, Thursday\, Friday\nTimes can vary. 5 pm to 6 pm currently\nFree meals. Donations accepted.\n206 Gaudin Ave\, Jamestown\, TN 38556\n(931) 752-8988
URL:https://www.thecommunityhousetn.org/event/handfuls-of-harvest-soup-kitchen-2-2/2026-10-01/
LOCATION:Handfuls of Harvest Soup Kitchen\, 206 Gaudin Ave\, Jamestown\, TN\, 38556\, United States
CATEGORIES:Food Pantry
END:VEVENT
BEGIN:VEVENT
DTSTART;TZID=America/Chicago:20261002T130000
DTEND;TZID=America/Chicago:20261002T160000
DTSTAMP:20260420T013906
CREATED:20250423T185540Z
LAST-MODIFIED:20250423T185540Z
UID:10004946-1790946000-1790956800@www.thecommunityhousetn.org
SUMMARY:5 Loaves Food Pantry/Vine Church
DESCRIPTION:This pantry is unique in that they often have meats and bread and milk\, and fresh foods as well.\n598 Vine Ridge Rd.\, Crawford\, TN 38554\nFridays 1 pm to 4 pm\nhttps://www.5loavestn.org/
URL:https://www.thecommunityhousetn.org/event/5-loaves-food-pantry-vine-church/2026-10-02/
LOCATION:5 Loaves Food Pantry\, 598 Vine Ridge Rd.\, Crawford\, TN 38554\, Crawford\, TN\, 38554\, United States
CATEGORIES:Food Pantry
END:VEVENT
BEGIN:VEVENT
DTSTART;TZID=America/Chicago:20261002T170000
DTEND;TZID=America/Chicago:20261002T180000
DTSTAMP:20260420T013906
CREATED:20250526T171859Z
LAST-MODIFIED:20250526T171902Z
UID:10007946-1790960400-1790964000@www.thecommunityhousetn.org
SUMMARY:Handfuls of Harvest Soup Kitchen
DESCRIPTION:Monday\, Tuesday\, Thursday\, Friday\nTimes can vary. 5 pm to 6 pm currently\nFree meals. Donations accepted.\n206 Gaudin Ave\, Jamestown\, TN 38556\n(931) 752-8988
URL:https://www.thecommunityhousetn.org/event/handfuls-of-harvest-soup-kitchen-2-2/2026-10-02/
LOCATION:Handfuls of Harvest Soup Kitchen\, 206 Gaudin Ave\, Jamestown\, TN\, 38556\, United States
CATEGORIES:Food Pantry
END:VEVENT
BEGIN:VEVENT
DTSTART;TZID=America/Chicago:20261005T170000
DTEND;TZID=America/Chicago:20261005T180000
DTSTAMP:20260420T013906
CREATED:20250526T171859Z
LAST-MODIFIED:20250526T171902Z
UID:10007947-1791219600-1791223200@www.thecommunityhousetn.org
SUMMARY:Handfuls of Harvest Soup Kitchen
DESCRIPTION:Monday\, Tuesday\, Thursday\, Friday\nTimes can vary. 5 pm to 6 pm currently\nFree meals. Donations accepted.\n206 Gaudin Ave\, Jamestown\, TN 38556\n(931) 752-8988
URL:https://www.thecommunityhousetn.org/event/handfuls-of-harvest-soup-kitchen-2-2/2026-10-05/
LOCATION:Handfuls of Harvest Soup Kitchen\, 206 Gaudin Ave\, Jamestown\, TN\, 38556\, United States
CATEGORIES:Food Pantry
END:VEVENT
BEGIN:VEVENT
DTSTART;TZID=America/Chicago:20261006T100000
DTEND;TZID=America/Chicago:20261006T120000
DTSTAMP:20260420T013906
CREATED:20250423T183259Z
LAST-MODIFIED:20250423T183259Z
UID:10004620-1791280800-1791288000@www.thecommunityhousetn.org
SUMMARY:Methodist Church Food Pantry
DESCRIPTION:Every Tuesday 10 am to noon\n102 E Church Street\, Jamestown\n(931) 879-7816
URL:https://www.thecommunityhousetn.org/event/methodist-church-food-pantry-2/2026-10-06/
LOCATION:Methodist Church Food Pantry\, 102 E Church Street\, Jamestown\, TN\, 38556\, United States
CATEGORIES:Food Pantry
END:VEVENT
BEGIN:VEVENT
DTSTART;TZID=America/Chicago:20261006T170000
DTEND;TZID=America/Chicago:20261006T180000
DTSTAMP:20260420T013906
CREATED:20250526T171859Z
LAST-MODIFIED:20250526T171902Z
UID:10007948-1791306000-1791309600@www.thecommunityhousetn.org
SUMMARY:Handfuls of Harvest Soup Kitchen
DESCRIPTION:Monday\, Tuesday\, Thursday\, Friday\nTimes can vary. 5 pm to 6 pm currently\nFree meals. Donations accepted.\n206 Gaudin Ave\, Jamestown\, TN 38556\n(931) 752-8988
URL:https://www.thecommunityhousetn.org/event/handfuls-of-harvest-soup-kitchen-2-2/2026-10-06/
LOCATION:Handfuls of Harvest Soup Kitchen\, 206 Gaudin Ave\, Jamestown\, TN\, 38556\, United States
CATEGORIES:Food Pantry
END:VEVENT
BEGIN:VEVENT
DTSTART;TZID=America/Chicago:20261008T090000
DTEND;TZID=America/Chicago:20261008T110000
DTSTAMP:20260420T013906
CREATED:20250110T205941Z
LAST-MODIFIED:20250220T011443Z
UID:10003429-1791450000-1791457200@www.thecommunityhousetn.org
SUMMARY:UCHRA Commodity Distribution
DESCRIPTION:Highands Church of the Cumberlands\n2nd Thursday every other month\n(Feb/April/June/Aug/Oct/Dec)\n507 Industrial Drive\, Jamestown\, TN 38556\n(931) 879-8040 for more info. \nDistribution takes place in the back parking lot of the church.\nOperated by Upper Cumberland Human Resource Agency (UCHRA)
URL:https://www.thecommunityhousetn.org/event/uchra-commodity-distribution/2026-10-08/
LOCATION:Highlands Church UCHRA Distrib.\, 507 Industrial Drive\, Jamestown\, TN\, 38556\, United States
CATEGORIES:Food Pantry
END:VEVENT
BEGIN:VEVENT
DTSTART;TZID=America/Chicago:20261008T090000
DTEND;TZID=America/Chicago:20261008T110000
DTSTAMP:20260420T013906
CREATED:20250423T182542Z
LAST-MODIFIED:20250423T182542Z
UID:10004511-1791450000-1791457200@www.thecommunityhousetn.org
SUMMARY:UCHRA Commodity Distribution
DESCRIPTION:This takes place in the parking lot behind Highands Church of the Cumberlands on the 2nd Thursday every other month\n(Feb/April/June/Aug/Oct/Dec \nWHEN: From 9 until 11 a.m. on the following dates: \n\nFebruary 13\, 2025 (Thursday)\nApril 10\, 2025 (Thursday)\nJune 12\, 2025 (Thursday)\nAugust 14\, 2025 (Thursday)\nOctober 9\, 2025 (Thursday)\nDecember 11\, 2025 (Thursday)
URL:https://www.thecommunityhousetn.org/event/uchra-commodity-distribution-2/2026-10-08/
LOCATION:Highlands Church UCHRA Distrib.\, 507 Industrial Drive\, Jamestown\, TN\, 38556\, United States
CATEGORIES:Food Pantry
END:VEVENT
BEGIN:VEVENT
DTSTART;TZID=America/Chicago:20261008T100000
DTEND;TZID=America/Chicago:20261008T120000
DTSTAMP:20260420T013906
CREATED:20250423T191443Z
LAST-MODIFIED:20250423T191443Z
UID:10005272-1791453600-1791460800@www.thecommunityhousetn.org
SUMMARY:7th Day Adventist Church
DESCRIPTION:2nd Thursday\, food distribution\,\n10 am to 12 pm\n1103 McGhee Rd\, Jamestown\n931-879-1747
URL:https://www.thecommunityhousetn.org/event/7th-day-adventist-church/2026-10-08/
LOCATION:7th Day Adventist Church\, 1103 McGhee Rd\, Jamestown\, TN\, 38556\, United States
CATEGORIES:Food Pantry
END:VEVENT
BEGIN:VEVENT
DTSTART;TZID=America/Chicago:20261008T130000
DTEND;TZID=America/Chicago:20261008T160000
DTSTAMP:20260420T013906
CREATED:20250526T171256Z
LAST-MODIFIED:20250526T171256Z
UID:10006431-1791464400-1791475200@www.thecommunityhousetn.org
SUMMARY:Refresh & Refuel Outreach
DESCRIPTION:“Refresh & Refuel” is a weekly Outreach on Thursday afternoons from 1:00 to 4:00 pm. The outreach offers access to a hot shower\, made-to-order sandwiches\, hygiene items\,  clothing\, and more for the area’s needy or unsheltered. \nLocated at the First Baptist Church Family Life Center in Jamestown. \n Coordinated by The Community House\, the outreach is staffed by volunteers from numerous area nonprofits and churches.  \nFuture plans include access to laundry facilities\, haircuts\, and more.
URL:https://www.thecommunityhousetn.org/event/refresh-refuel-outreach/2026-10-08/
LOCATION:Family Life Center\, FJB\, 360 East Central Avenue\, Jamestown\, TN\, 38556\, United States
CATEGORIES:Food Pantry
ORGANIZER;CN="The Community House":MAILTO:info@thecommunityhouseTN.org
END:VEVENT
BEGIN:VEVENT
DTSTART;TZID=America/Chicago:20261008T170000
DTEND;TZID=America/Chicago:20261008T180000
DTSTAMP:20260420T013906
CREATED:20250526T171859Z
LAST-MODIFIED:20250526T171902Z
UID:10007949-1791478800-1791482400@www.thecommunityhousetn.org
SUMMARY:Handfuls of Harvest Soup Kitchen
DESCRIPTION:Monday\, Tuesday\, Thursday\, Friday\nTimes can vary. 5 pm to 6 pm currently\nFree meals. Donations accepted.\n206 Gaudin Ave\, Jamestown\, TN 38556\n(931) 752-8988
URL:https://www.thecommunityhousetn.org/event/handfuls-of-harvest-soup-kitchen-2-2/2026-10-08/
LOCATION:Handfuls of Harvest Soup Kitchen\, 206 Gaudin Ave\, Jamestown\, TN\, 38556\, United States
CATEGORIES:Food Pantry
END:VEVENT
BEGIN:VEVENT
DTSTART;TZID=America/Chicago:20261009T130000
DTEND;TZID=America/Chicago:20261009T160000
DTSTAMP:20260420T013906
CREATED:20250423T185540Z
LAST-MODIFIED:20250423T185540Z
UID:10004947-1791550800-1791561600@www.thecommunityhousetn.org
SUMMARY:5 Loaves Food Pantry/Vine Church
DESCRIPTION:This pantry is unique in that they often have meats and bread and milk\, and fresh foods as well.\n598 Vine Ridge Rd.\, Crawford\, TN 38554\nFridays 1 pm to 4 pm\nhttps://www.5loavestn.org/
URL:https://www.thecommunityhousetn.org/event/5-loaves-food-pantry-vine-church/2026-10-09/
LOCATION:5 Loaves Food Pantry\, 598 Vine Ridge Rd.\, Crawford\, TN 38554\, Crawford\, TN\, 38554\, United States
CATEGORIES:Food Pantry
END:VEVENT
BEGIN:VEVENT
DTSTART;TZID=America/Chicago:20261009T170000
DTEND;TZID=America/Chicago:20261009T180000
DTSTAMP:20260420T013906
CREATED:20250526T171859Z
LAST-MODIFIED:20250526T171902Z
UID:10007950-1791565200-1791568800@www.thecommunityhousetn.org
SUMMARY:Handfuls of Harvest Soup Kitchen
DESCRIPTION:Monday\, Tuesday\, Thursday\, Friday\nTimes can vary. 5 pm to 6 pm currently\nFree meals. Donations accepted.\n206 Gaudin Ave\, Jamestown\, TN 38556\n(931) 752-8988
URL:https://www.thecommunityhousetn.org/event/handfuls-of-harvest-soup-kitchen-2-2/2026-10-09/
LOCATION:Handfuls of Harvest Soup Kitchen\, 206 Gaudin Ave\, Jamestown\, TN\, 38556\, United States
CATEGORIES:Food Pantry
END:VEVENT
BEGIN:VEVENT
DTSTART;TZID=America/Chicago:20261012T170000
DTEND;TZID=America/Chicago:20261012T180000
DTSTAMP:20260420T013906
CREATED:20250526T171859Z
LAST-MODIFIED:20250526T171902Z
UID:10007951-1791824400-1791828000@www.thecommunityhousetn.org
SUMMARY:Handfuls of Harvest Soup Kitchen
DESCRIPTION:Monday\, Tuesday\, Thursday\, Friday\nTimes can vary. 5 pm to 6 pm currently\nFree meals. Donations accepted.\n206 Gaudin Ave\, Jamestown\, TN 38556\n(931) 752-8988
URL:https://www.thecommunityhousetn.org/event/handfuls-of-harvest-soup-kitchen-2-2/2026-10-12/
LOCATION:Handfuls of Harvest Soup Kitchen\, 206 Gaudin Ave\, Jamestown\, TN\, 38556\, United States
CATEGORIES:Food Pantry
END:VEVENT
BEGIN:VEVENT
DTSTART;TZID=America/Chicago:20261013T083000
DTEND;TZID=America/Chicago:20261013T103000
DTSTAMP:20260420T013906
CREATED:20250423T185934Z
LAST-MODIFIED:20250423T190954Z
UID:10005150-1791880200-1791887400@www.thecommunityhousetn.org
SUMMARY:Second Harvest Food Bank
DESCRIPTION:Second Harvest Food Bank\nEvery 2nd Tuesday; 8:30 am to 10:30 am\nProduce only distribution held at the Jamestown Food Pantry\, 511 Fairgrounds Rd \n 
URL:https://www.thecommunityhousetn.org/event/second-harvest-food-bank/2026-10-13/
LOCATION:Second Harvest Food Bank\, 511 Fairgrounds Rd\, Jamestown\, TN\, 38556\, United States
CATEGORIES:Food Pantry
END:VEVENT
BEGIN:VEVENT
DTSTART;TZID=America/Chicago:20261013T100000
DTEND;TZID=America/Chicago:20261013T120000
DTSTAMP:20260420T013906
CREATED:20250423T183259Z
LAST-MODIFIED:20250423T183259Z
UID:10004621-1791885600-1791892800@www.thecommunityhousetn.org
SUMMARY:Methodist Church Food Pantry
DESCRIPTION:Every Tuesday 10 am to noon\n102 E Church Street\, Jamestown\n(931) 879-7816
URL:https://www.thecommunityhousetn.org/event/methodist-church-food-pantry-2/2026-10-13/
LOCATION:Methodist Church Food Pantry\, 102 E Church Street\, Jamestown\, TN\, 38556\, United States
CATEGORIES:Food Pantry
END:VEVENT
BEGIN:VEVENT
DTSTART;TZID=America/Chicago:20261013T170000
DTEND;TZID=America/Chicago:20261013T180000
DTSTAMP:20260420T013906
CREATED:20250526T171859Z
LAST-MODIFIED:20250526T171902Z
UID:10007952-1791910800-1791914400@www.thecommunityhousetn.org
SUMMARY:Handfuls of Harvest Soup Kitchen
DESCRIPTION:Monday\, Tuesday\, Thursday\, Friday\nTimes can vary. 5 pm to 6 pm currently\nFree meals. Donations accepted.\n206 Gaudin Ave\, Jamestown\, TN 38556\n(931) 752-8988
URL:https://www.thecommunityhousetn.org/event/handfuls-of-harvest-soup-kitchen-2-2/2026-10-13/
LOCATION:Handfuls of Harvest Soup Kitchen\, 206 Gaudin Ave\, Jamestown\, TN\, 38556\, United States
CATEGORIES:Food Pantry
END:VEVENT
BEGIN:VEVENT
DTSTART;TZID=America/Chicago:20261015T100000
DTEND;TZID=America/Chicago:20261015T130000
DTSTAMP:20260420T013906
CREATED:20250423T191248Z
LAST-MODIFIED:20250423T191248Z
UID:10005211-1792058400-1792069200@www.thecommunityhousetn.org
SUMMARY:Second Harvest Food Bank Clarkrange
DESCRIPTION:Drive thru full pantry distribution\nSouth Fentress Park\n6233 York Hwy\, Clarkrange \nEvery 3rd Tuesday; 10 am to 1 pm
URL:https://www.thecommunityhousetn.org/event/second-harvest-food-bank-clarkrange-2/2026-10-15/
LOCATION:Second Harves Food Bank Clarkrange\, 6233 York Hwy\, Clarkrange\, Clarkrange\, TN\, 38556\, United States
CATEGORIES:Food Pantry
END:VEVENT
BEGIN:VEVENT
DTSTART;TZID=America/Chicago:20261015T130000
DTEND;TZID=America/Chicago:20261015T160000
DTSTAMP:20260420T013906
CREATED:20250526T171256Z
LAST-MODIFIED:20250526T171256Z
UID:10006432-1792069200-1792080000@www.thecommunityhousetn.org
SUMMARY:Refresh & Refuel Outreach
DESCRIPTION:“Refresh & Refuel” is a weekly Outreach on Thursday afternoons from 1:00 to 4:00 pm. The outreach offers access to a hot shower\, made-to-order sandwiches\, hygiene items\,  clothing\, and more for the area’s needy or unsheltered. \nLocated at the First Baptist Church Family Life Center in Jamestown. \n Coordinated by The Community House\, the outreach is staffed by volunteers from numerous area nonprofits and churches.  \nFuture plans include access to laundry facilities\, haircuts\, and more.
URL:https://www.thecommunityhousetn.org/event/refresh-refuel-outreach/2026-10-15/
LOCATION:Family Life Center\, FJB\, 360 East Central Avenue\, Jamestown\, TN\, 38556\, United States
CATEGORIES:Food Pantry
ORGANIZER;CN="The Community House":MAILTO:info@thecommunityhouseTN.org
END:VEVENT
BEGIN:VEVENT
DTSTART;TZID=America/Chicago:20261015T170000
DTEND;TZID=America/Chicago:20261015T180000
DTSTAMP:20260420T013906
CREATED:20250526T171859Z
LAST-MODIFIED:20250526T171902Z
UID:10007953-1792083600-1792087200@www.thecommunityhousetn.org
SUMMARY:Handfuls of Harvest Soup Kitchen
DESCRIPTION:Monday\, Tuesday\, Thursday\, Friday\nTimes can vary. 5 pm to 6 pm currently\nFree meals. Donations accepted.\n206 Gaudin Ave\, Jamestown\, TN 38556\n(931) 752-8988
URL:https://www.thecommunityhousetn.org/event/handfuls-of-harvest-soup-kitchen-2-2/2026-10-15/
LOCATION:Handfuls of Harvest Soup Kitchen\, 206 Gaudin Ave\, Jamestown\, TN\, 38556\, United States
CATEGORIES:Food Pantry
END:VEVENT
BEGIN:VEVENT
DTSTART;TZID=America/Chicago:20261016T130000
DTEND;TZID=America/Chicago:20261016T160000
DTSTAMP:20260420T013906
CREATED:20250423T185540Z
LAST-MODIFIED:20250423T185540Z
UID:10004948-1792155600-1792166400@www.thecommunityhousetn.org
SUMMARY:5 Loaves Food Pantry/Vine Church
DESCRIPTION:This pantry is unique in that they often have meats and bread and milk\, and fresh foods as well.\n598 Vine Ridge Rd.\, Crawford\, TN 38554\nFridays 1 pm to 4 pm\nhttps://www.5loavestn.org/
URL:https://www.thecommunityhousetn.org/event/5-loaves-food-pantry-vine-church/2026-10-16/
LOCATION:5 Loaves Food Pantry\, 598 Vine Ridge Rd.\, Crawford\, TN 38554\, Crawford\, TN\, 38554\, United States
CATEGORIES:Food Pantry
END:VEVENT
BEGIN:VEVENT
DTSTART;TZID=America/Chicago:20261016T170000
DTEND;TZID=America/Chicago:20261016T180000
DTSTAMP:20260420T013906
CREATED:20250526T171859Z
LAST-MODIFIED:20250526T171902Z
UID:10007954-1792170000-1792173600@www.thecommunityhousetn.org
SUMMARY:Handfuls of Harvest Soup Kitchen
DESCRIPTION:Monday\, Tuesday\, Thursday\, Friday\nTimes can vary. 5 pm to 6 pm currently\nFree meals. Donations accepted.\n206 Gaudin Ave\, Jamestown\, TN 38556\n(931) 752-8988
URL:https://www.thecommunityhousetn.org/event/handfuls-of-harvest-soup-kitchen-2-2/2026-10-16/
LOCATION:Handfuls of Harvest Soup Kitchen\, 206 Gaudin Ave\, Jamestown\, TN\, 38556\, United States
CATEGORIES:Food Pantry
END:VEVENT
BEGIN:VEVENT
DTSTART;TZID=America/Chicago:20261019T170000
DTEND;TZID=America/Chicago:20261019T180000
DTSTAMP:20260420T013906
CREATED:20250526T171859Z
LAST-MODIFIED:20250526T171902Z
UID:10007955-1792429200-1792432800@www.thecommunityhousetn.org
SUMMARY:Handfuls of Harvest Soup Kitchen
DESCRIPTION:Monday\, Tuesday\, Thursday\, Friday\nTimes can vary. 5 pm to 6 pm currently\nFree meals. Donations accepted.\n206 Gaudin Ave\, Jamestown\, TN 38556\n(931) 752-8988
URL:https://www.thecommunityhousetn.org/event/handfuls-of-harvest-soup-kitchen-2-2/2026-10-19/
LOCATION:Handfuls of Harvest Soup Kitchen\, 206 Gaudin Ave\, Jamestown\, TN\, 38556\, United States
CATEGORIES:Food Pantry
END:VEVENT
BEGIN:VEVENT
DTSTART;TZID=America/Chicago:20261020T100000
DTEND;TZID=America/Chicago:20261020T120000
DTSTAMP:20260420T013906
CREATED:20250423T183259Z
LAST-MODIFIED:20250423T183259Z
UID:10004622-1792490400-1792497600@www.thecommunityhousetn.org
SUMMARY:Methodist Church Food Pantry
DESCRIPTION:Every Tuesday 10 am to noon\n102 E Church Street\, Jamestown\n(931) 879-7816
URL:https://www.thecommunityhousetn.org/event/methodist-church-food-pantry-2/2026-10-20/
LOCATION:Methodist Church Food Pantry\, 102 E Church Street\, Jamestown\, TN\, 38556\, United States
CATEGORIES:Food Pantry
END:VEVENT
BEGIN:VEVENT
DTSTART;TZID=America/Chicago:20261020T170000
DTEND;TZID=America/Chicago:20261020T180000
DTSTAMP:20260420T013906
CREATED:20250526T171859Z
LAST-MODIFIED:20250526T171902Z
UID:10007956-1792515600-1792519200@www.thecommunityhousetn.org
SUMMARY:Handfuls of Harvest Soup Kitchen
DESCRIPTION:Monday\, Tuesday\, Thursday\, Friday\nTimes can vary. 5 pm to 6 pm currently\nFree meals. Donations accepted.\n206 Gaudin Ave\, Jamestown\, TN 38556\n(931) 752-8988
URL:https://www.thecommunityhousetn.org/event/handfuls-of-harvest-soup-kitchen-2-2/2026-10-20/
LOCATION:Handfuls of Harvest Soup Kitchen\, 206 Gaudin Ave\, Jamestown\, TN\, 38556\, United States
CATEGORIES:Food Pantry
END:VEVENT
BEGIN:VEVENT
DTSTART;TZID=America/Chicago:20261022T130000
DTEND;TZID=America/Chicago:20261022T160000
DTSTAMP:20260420T013906
CREATED:20250526T171256Z
LAST-MODIFIED:20250526T171256Z
UID:10006433-1792674000-1792684800@www.thecommunityhousetn.org
SUMMARY:Refresh & Refuel Outreach
DESCRIPTION:“Refresh & Refuel” is a weekly Outreach on Thursday afternoons from 1:00 to 4:00 pm. The outreach offers access to a hot shower\, made-to-order sandwiches\, hygiene items\,  clothing\, and more for the area’s needy or unsheltered. \nLocated at the First Baptist Church Family Life Center in Jamestown. \n Coordinated by The Community House\, the outreach is staffed by volunteers from numerous area nonprofits and churches.  \nFuture plans include access to laundry facilities\, haircuts\, and more.
URL:https://www.thecommunityhousetn.org/event/refresh-refuel-outreach/2026-10-22/
LOCATION:Family Life Center\, FJB\, 360 East Central Avenue\, Jamestown\, TN\, 38556\, United States
CATEGORIES:Food Pantry
ORGANIZER;CN="The Community House":MAILTO:info@thecommunityhouseTN.org
END:VEVENT
BEGIN:VEVENT
DTSTART;TZID=America/Chicago:20261022T170000
DTEND;TZID=America/Chicago:20261022T180000
DTSTAMP:20260420T013906
CREATED:20250526T171859Z
LAST-MODIFIED:20250526T171902Z
UID:10007957-1792688400-1792692000@www.thecommunityhousetn.org
SUMMARY:Handfuls of Harvest Soup Kitchen
DESCRIPTION:Monday\, Tuesday\, Thursday\, Friday\nTimes can vary. 5 pm to 6 pm currently\nFree meals. Donations accepted.\n206 Gaudin Ave\, Jamestown\, TN 38556\n(931) 752-8988
URL:https://www.thecommunityhousetn.org/event/handfuls-of-harvest-soup-kitchen-2-2/2026-10-22/
LOCATION:Handfuls of Harvest Soup Kitchen\, 206 Gaudin Ave\, Jamestown\, TN\, 38556\, United States
CATEGORIES:Food Pantry
END:VEVENT
BEGIN:VEVENT
DTSTART;TZID=America/Chicago:20261023T130000
DTEND;TZID=America/Chicago:20261023T160000
DTSTAMP:20260420T013906
CREATED:20250423T185540Z
LAST-MODIFIED:20250423T185540Z
UID:10004949-1792760400-1792771200@www.thecommunityhousetn.org
SUMMARY:5 Loaves Food Pantry/Vine Church
DESCRIPTION:This pantry is unique in that they often have meats and bread and milk\, and fresh foods as well.\n598 Vine Ridge Rd.\, Crawford\, TN 38554\nFridays 1 pm to 4 pm\nhttps://www.5loavestn.org/
URL:https://www.thecommunityhousetn.org/event/5-loaves-food-pantry-vine-church/2026-10-23/
LOCATION:5 Loaves Food Pantry\, 598 Vine Ridge Rd.\, Crawford\, TN 38554\, Crawford\, TN\, 38554\, United States
CATEGORIES:Food Pantry
END:VEVENT
BEGIN:VEVENT
DTSTART;TZID=America/Chicago:20261023T170000
DTEND;TZID=America/Chicago:20261023T180000
DTSTAMP:20260420T013906
CREATED:20250526T171859Z
LAST-MODIFIED:20250526T171902Z
UID:10007958-1792774800-1792778400@www.thecommunityhousetn.org
SUMMARY:Handfuls of Harvest Soup Kitchen
DESCRIPTION:Monday\, Tuesday\, Thursday\, Friday\nTimes can vary. 5 pm to 6 pm currently\nFree meals. Donations accepted.\n206 Gaudin Ave\, Jamestown\, TN 38556\n(931) 752-8988
URL:https://www.thecommunityhousetn.org/event/handfuls-of-harvest-soup-kitchen-2-2/2026-10-23/
LOCATION:Handfuls of Harvest Soup Kitchen\, 206 Gaudin Ave\, Jamestown\, TN\, 38556\, United States
CATEGORIES:Food Pantry
END:VEVENT
END:VCALENDAR