BEGIN:VCALENDAR
VERSION:2.0
PRODID:-//The Community House Inc - ECPv6.15.20//NONSGML v1.0//EN
CALSCALE:GREGORIAN
METHOD:PUBLISH
X-WR-CALNAME:The Community House Inc
X-ORIGINAL-URL:https://www.thecommunityhousetn.org
X-WR-CALDESC:Events for The Community House Inc
REFRESH-INTERVAL;VALUE=DURATION:PT1H
X-Robots-Tag:noindex
X-PUBLISHED-TTL:PT1H
BEGIN:VTIMEZONE
TZID:America/Chicago
BEGIN:DAYLIGHT
TZOFFSETFROM:-0600
TZOFFSETTO:-0500
TZNAME:CDT
DTSTART:20250309T080000
END:DAYLIGHT
BEGIN:STANDARD
TZOFFSETFROM:-0500
TZOFFSETTO:-0600
TZNAME:CST
DTSTART:20251102T070000
END:STANDARD
BEGIN:DAYLIGHT
TZOFFSETFROM:-0600
TZOFFSETTO:-0500
TZNAME:CDT
DTSTART:20260308T080000
END:DAYLIGHT
BEGIN:STANDARD
TZOFFSETFROM:-0500
TZOFFSETTO:-0600
TZNAME:CST
DTSTART:20261101T070000
END:STANDARD
BEGIN:DAYLIGHT
TZOFFSETFROM:-0600
TZOFFSETTO:-0500
TZNAME:CDT
DTSTART:20270314T080000
END:DAYLIGHT
BEGIN:STANDARD
TZOFFSETFROM:-0500
TZOFFSETTO:-0600
TZNAME:CST
DTSTART:20271107T070000
END:STANDARD
END:VTIMEZONE
BEGIN:VEVENT
DTSTART;TZID=America/Chicago:20260901T100000
DTEND;TZID=America/Chicago:20260901T120000
DTSTAMP:20260420T001432
CREATED:20250423T183259Z
LAST-MODIFIED:20250423T183259Z
UID:10004615-1788256800-1788264000@www.thecommunityhousetn.org
SUMMARY:Methodist Church Food Pantry
DESCRIPTION:Every Tuesday 10 am to noon\n102 E Church Street\, Jamestown\n(931) 879-7816
URL:https://www.thecommunityhousetn.org/event/methodist-church-food-pantry-2/2026-09-01/
LOCATION:Methodist Church Food Pantry\, 102 E Church Street\, Jamestown\, TN\, 38556\, United States
CATEGORIES:Food Pantry
END:VEVENT
BEGIN:VEVENT
DTSTART;TZID=America/Chicago:20260901T170000
DTEND;TZID=America/Chicago:20260901T180000
DTSTAMP:20260420T001432
CREATED:20250526T171859Z
LAST-MODIFIED:20250526T171902Z
UID:10007928-1788282000-1788285600@www.thecommunityhousetn.org
SUMMARY:Handfuls of Harvest Soup Kitchen
DESCRIPTION:Monday\, Tuesday\, Thursday\, Friday\nTimes can vary. 5 pm to 6 pm currently\nFree meals. Donations accepted.\n206 Gaudin Ave\, Jamestown\, TN 38556\n(931) 752-8988
URL:https://www.thecommunityhousetn.org/event/handfuls-of-harvest-soup-kitchen-2-2/2026-09-01/
LOCATION:Handfuls of Harvest Soup Kitchen\, 206 Gaudin Ave\, Jamestown\, TN\, 38556\, United States
CATEGORIES:Food Pantry
END:VEVENT
BEGIN:VEVENT
DTSTART;TZID=America/Chicago:20260903T130000
DTEND;TZID=America/Chicago:20260903T160000
DTSTAMP:20260420T001432
CREATED:20250526T171256Z
LAST-MODIFIED:20250526T171256Z
UID:10006426-1788440400-1788451200@www.thecommunityhousetn.org
SUMMARY:Refresh & Refuel Outreach
DESCRIPTION:“Refresh & Refuel” is a weekly Outreach on Thursday afternoons from 1:00 to 4:00 pm. The outreach offers access to a hot shower\, made-to-order sandwiches\, hygiene items\,  clothing\, and more for the area’s needy or unsheltered. \nLocated at the First Baptist Church Family Life Center in Jamestown. \n Coordinated by The Community House\, the outreach is staffed by volunteers from numerous area nonprofits and churches.  \nFuture plans include access to laundry facilities\, haircuts\, and more.
URL:https://www.thecommunityhousetn.org/event/refresh-refuel-outreach/2026-09-03/
LOCATION:Family Life Center\, FJB\, 360 East Central Avenue\, Jamestown\, TN\, 38556\, United States
CATEGORIES:Food Pantry
ORGANIZER;CN="The Community House":MAILTO:info@thecommunityhouseTN.org
END:VEVENT
BEGIN:VEVENT
DTSTART;TZID=America/Chicago:20260903T170000
DTEND;TZID=America/Chicago:20260903T180000
DTSTAMP:20260420T001432
CREATED:20250526T171859Z
LAST-MODIFIED:20250526T171902Z
UID:10007929-1788454800-1788458400@www.thecommunityhousetn.org
SUMMARY:Handfuls of Harvest Soup Kitchen
DESCRIPTION:Monday\, Tuesday\, Thursday\, Friday\nTimes can vary. 5 pm to 6 pm currently\nFree meals. Donations accepted.\n206 Gaudin Ave\, Jamestown\, TN 38556\n(931) 752-8988
URL:https://www.thecommunityhousetn.org/event/handfuls-of-harvest-soup-kitchen-2-2/2026-09-03/
LOCATION:Handfuls of Harvest Soup Kitchen\, 206 Gaudin Ave\, Jamestown\, TN\, 38556\, United States
CATEGORIES:Food Pantry
END:VEVENT
BEGIN:VEVENT
DTSTART;TZID=America/Chicago:20260904T130000
DTEND;TZID=America/Chicago:20260904T160000
DTSTAMP:20260420T001432
CREATED:20250423T185540Z
LAST-MODIFIED:20250423T185540Z
UID:10004942-1788526800-1788537600@www.thecommunityhousetn.org
SUMMARY:5 Loaves Food Pantry/Vine Church
DESCRIPTION:This pantry is unique in that they often have meats and bread and milk\, and fresh foods as well.\n598 Vine Ridge Rd.\, Crawford\, TN 38554\nFridays 1 pm to 4 pm\nhttps://www.5loavestn.org/
URL:https://www.thecommunityhousetn.org/event/5-loaves-food-pantry-vine-church/2026-09-04/
LOCATION:5 Loaves Food Pantry\, 598 Vine Ridge Rd.\, Crawford\, TN 38554\, Crawford\, TN\, 38554\, United States
CATEGORIES:Food Pantry
END:VEVENT
BEGIN:VEVENT
DTSTART;TZID=America/Chicago:20260904T170000
DTEND;TZID=America/Chicago:20260904T180000
DTSTAMP:20260420T001432
CREATED:20250526T171859Z
LAST-MODIFIED:20250526T171902Z
UID:10007930-1788541200-1788544800@www.thecommunityhousetn.org
SUMMARY:Handfuls of Harvest Soup Kitchen
DESCRIPTION:Monday\, Tuesday\, Thursday\, Friday\nTimes can vary. 5 pm to 6 pm currently\nFree meals. Donations accepted.\n206 Gaudin Ave\, Jamestown\, TN 38556\n(931) 752-8988
URL:https://www.thecommunityhousetn.org/event/handfuls-of-harvest-soup-kitchen-2-2/2026-09-04/
LOCATION:Handfuls of Harvest Soup Kitchen\, 206 Gaudin Ave\, Jamestown\, TN\, 38556\, United States
CATEGORIES:Food Pantry
END:VEVENT
BEGIN:VEVENT
DTSTART;TZID=America/Chicago:20260907T170000
DTEND;TZID=America/Chicago:20260907T180000
DTSTAMP:20260420T001432
CREATED:20250526T171859Z
LAST-MODIFIED:20250526T171902Z
UID:10007931-1788800400-1788804000@www.thecommunityhousetn.org
SUMMARY:Handfuls of Harvest Soup Kitchen
DESCRIPTION:Monday\, Tuesday\, Thursday\, Friday\nTimes can vary. 5 pm to 6 pm currently\nFree meals. Donations accepted.\n206 Gaudin Ave\, Jamestown\, TN 38556\n(931) 752-8988
URL:https://www.thecommunityhousetn.org/event/handfuls-of-harvest-soup-kitchen-2-2/2026-09-07/
LOCATION:Handfuls of Harvest Soup Kitchen\, 206 Gaudin Ave\, Jamestown\, TN\, 38556\, United States
CATEGORIES:Food Pantry
END:VEVENT
BEGIN:VEVENT
DTSTART;TZID=America/Chicago:20260908T083000
DTEND;TZID=America/Chicago:20260908T103000
DTSTAMP:20260420T001432
CREATED:20250423T185934Z
LAST-MODIFIED:20250423T190954Z
UID:10005149-1788856200-1788863400@www.thecommunityhousetn.org
SUMMARY:Second Harvest Food Bank
DESCRIPTION:Second Harvest Food Bank\nEvery 2nd Tuesday; 8:30 am to 10:30 am\nProduce only distribution held at the Jamestown Food Pantry\, 511 Fairgrounds Rd \n 
URL:https://www.thecommunityhousetn.org/event/second-harvest-food-bank/2026-09-08/
LOCATION:Second Harvest Food Bank\, 511 Fairgrounds Rd\, Jamestown\, TN\, 38556\, United States
CATEGORIES:Food Pantry
END:VEVENT
BEGIN:VEVENT
DTSTART;TZID=America/Chicago:20260908T100000
DTEND;TZID=America/Chicago:20260908T120000
DTSTAMP:20260420T001432
CREATED:20250423T183259Z
LAST-MODIFIED:20250423T183259Z
UID:10004616-1788861600-1788868800@www.thecommunityhousetn.org
SUMMARY:Methodist Church Food Pantry
DESCRIPTION:Every Tuesday 10 am to noon\n102 E Church Street\, Jamestown\n(931) 879-7816
URL:https://www.thecommunityhousetn.org/event/methodist-church-food-pantry-2/2026-09-08/
LOCATION:Methodist Church Food Pantry\, 102 E Church Street\, Jamestown\, TN\, 38556\, United States
CATEGORIES:Food Pantry
END:VEVENT
BEGIN:VEVENT
DTSTART;TZID=America/Chicago:20260908T170000
DTEND;TZID=America/Chicago:20260908T180000
DTSTAMP:20260420T001432
CREATED:20250526T171859Z
LAST-MODIFIED:20250526T171902Z
UID:10007932-1788886800-1788890400@www.thecommunityhousetn.org
SUMMARY:Handfuls of Harvest Soup Kitchen
DESCRIPTION:Monday\, Tuesday\, Thursday\, Friday\nTimes can vary. 5 pm to 6 pm currently\nFree meals. Donations accepted.\n206 Gaudin Ave\, Jamestown\, TN 38556\n(931) 752-8988
URL:https://www.thecommunityhousetn.org/event/handfuls-of-harvest-soup-kitchen-2-2/2026-09-08/
LOCATION:Handfuls of Harvest Soup Kitchen\, 206 Gaudin Ave\, Jamestown\, TN\, 38556\, United States
CATEGORIES:Food Pantry
END:VEVENT
BEGIN:VEVENT
DTSTART;TZID=America/Chicago:20260910T100000
DTEND;TZID=America/Chicago:20260910T120000
DTSTAMP:20260420T001432
CREATED:20250423T191443Z
LAST-MODIFIED:20250423T191443Z
UID:10005271-1789034400-1789041600@www.thecommunityhousetn.org
SUMMARY:7th Day Adventist Church
DESCRIPTION:2nd Thursday\, food distribution\,\n10 am to 12 pm\n1103 McGhee Rd\, Jamestown\n931-879-1747
URL:https://www.thecommunityhousetn.org/event/7th-day-adventist-church/2026-09-10/
LOCATION:7th Day Adventist Church\, 1103 McGhee Rd\, Jamestown\, TN\, 38556\, United States
CATEGORIES:Food Pantry
END:VEVENT
BEGIN:VEVENT
DTSTART;TZID=America/Chicago:20260910T130000
DTEND;TZID=America/Chicago:20260910T160000
DTSTAMP:20260420T001432
CREATED:20250526T171256Z
LAST-MODIFIED:20250526T171256Z
UID:10006427-1789045200-1789056000@www.thecommunityhousetn.org
SUMMARY:Refresh & Refuel Outreach
DESCRIPTION:“Refresh & Refuel” is a weekly Outreach on Thursday afternoons from 1:00 to 4:00 pm. The outreach offers access to a hot shower\, made-to-order sandwiches\, hygiene items\,  clothing\, and more for the area’s needy or unsheltered. \nLocated at the First Baptist Church Family Life Center in Jamestown. \n Coordinated by The Community House\, the outreach is staffed by volunteers from numerous area nonprofits and churches.  \nFuture plans include access to laundry facilities\, haircuts\, and more.
URL:https://www.thecommunityhousetn.org/event/refresh-refuel-outreach/2026-09-10/
LOCATION:Family Life Center\, FJB\, 360 East Central Avenue\, Jamestown\, TN\, 38556\, United States
CATEGORIES:Food Pantry
ORGANIZER;CN="The Community House":MAILTO:info@thecommunityhouseTN.org
END:VEVENT
BEGIN:VEVENT
DTSTART;TZID=America/Chicago:20260910T170000
DTEND;TZID=America/Chicago:20260910T180000
DTSTAMP:20260420T001432
CREATED:20250526T171859Z
LAST-MODIFIED:20250526T171902Z
UID:10007933-1789059600-1789063200@www.thecommunityhousetn.org
SUMMARY:Handfuls of Harvest Soup Kitchen
DESCRIPTION:Monday\, Tuesday\, Thursday\, Friday\nTimes can vary. 5 pm to 6 pm currently\nFree meals. Donations accepted.\n206 Gaudin Ave\, Jamestown\, TN 38556\n(931) 752-8988
URL:https://www.thecommunityhousetn.org/event/handfuls-of-harvest-soup-kitchen-2-2/2026-09-10/
LOCATION:Handfuls of Harvest Soup Kitchen\, 206 Gaudin Ave\, Jamestown\, TN\, 38556\, United States
CATEGORIES:Food Pantry
END:VEVENT
BEGIN:VEVENT
DTSTART;TZID=America/Chicago:20260911T130000
DTEND;TZID=America/Chicago:20260911T160000
DTSTAMP:20260420T001432
CREATED:20250423T185540Z
LAST-MODIFIED:20250423T185540Z
UID:10004943-1789131600-1789142400@www.thecommunityhousetn.org
SUMMARY:5 Loaves Food Pantry/Vine Church
DESCRIPTION:This pantry is unique in that they often have meats and bread and milk\, and fresh foods as well.\n598 Vine Ridge Rd.\, Crawford\, TN 38554\nFridays 1 pm to 4 pm\nhttps://www.5loavestn.org/
URL:https://www.thecommunityhousetn.org/event/5-loaves-food-pantry-vine-church/2026-09-11/
LOCATION:5 Loaves Food Pantry\, 598 Vine Ridge Rd.\, Crawford\, TN 38554\, Crawford\, TN\, 38554\, United States
CATEGORIES:Food Pantry
END:VEVENT
BEGIN:VEVENT
DTSTART;TZID=America/Chicago:20260911T170000
DTEND;TZID=America/Chicago:20260911T180000
DTSTAMP:20260420T001432
CREATED:20250526T171859Z
LAST-MODIFIED:20250526T171902Z
UID:10007934-1789146000-1789149600@www.thecommunityhousetn.org
SUMMARY:Handfuls of Harvest Soup Kitchen
DESCRIPTION:Monday\, Tuesday\, Thursday\, Friday\nTimes can vary. 5 pm to 6 pm currently\nFree meals. Donations accepted.\n206 Gaudin Ave\, Jamestown\, TN 38556\n(931) 752-8988
URL:https://www.thecommunityhousetn.org/event/handfuls-of-harvest-soup-kitchen-2-2/2026-09-11/
LOCATION:Handfuls of Harvest Soup Kitchen\, 206 Gaudin Ave\, Jamestown\, TN\, 38556\, United States
CATEGORIES:Food Pantry
END:VEVENT
BEGIN:VEVENT
DTSTART;TZID=America/Chicago:20260914T170000
DTEND;TZID=America/Chicago:20260914T180000
DTSTAMP:20260420T001432
CREATED:20250526T171859Z
LAST-MODIFIED:20250526T171902Z
UID:10007935-1789405200-1789408800@www.thecommunityhousetn.org
SUMMARY:Handfuls of Harvest Soup Kitchen
DESCRIPTION:Monday\, Tuesday\, Thursday\, Friday\nTimes can vary. 5 pm to 6 pm currently\nFree meals. Donations accepted.\n206 Gaudin Ave\, Jamestown\, TN 38556\n(931) 752-8988
URL:https://www.thecommunityhousetn.org/event/handfuls-of-harvest-soup-kitchen-2-2/2026-09-14/
LOCATION:Handfuls of Harvest Soup Kitchen\, 206 Gaudin Ave\, Jamestown\, TN\, 38556\, United States
CATEGORIES:Food Pantry
END:VEVENT
BEGIN:VEVENT
DTSTART;TZID=America/Chicago:20260915T100000
DTEND;TZID=America/Chicago:20260915T120000
DTSTAMP:20260420T001432
CREATED:20250423T183259Z
LAST-MODIFIED:20250423T183259Z
UID:10004617-1789466400-1789473600@www.thecommunityhousetn.org
SUMMARY:Methodist Church Food Pantry
DESCRIPTION:Every Tuesday 10 am to noon\n102 E Church Street\, Jamestown\n(931) 879-7816
URL:https://www.thecommunityhousetn.org/event/methodist-church-food-pantry-2/2026-09-15/
LOCATION:Methodist Church Food Pantry\, 102 E Church Street\, Jamestown\, TN\, 38556\, United States
CATEGORIES:Food Pantry
END:VEVENT
BEGIN:VEVENT
DTSTART;TZID=America/Chicago:20260915T170000
DTEND;TZID=America/Chicago:20260915T180000
DTSTAMP:20260420T001432
CREATED:20250526T171859Z
LAST-MODIFIED:20250526T171902Z
UID:10007936-1789491600-1789495200@www.thecommunityhousetn.org
SUMMARY:Handfuls of Harvest Soup Kitchen
DESCRIPTION:Monday\, Tuesday\, Thursday\, Friday\nTimes can vary. 5 pm to 6 pm currently\nFree meals. Donations accepted.\n206 Gaudin Ave\, Jamestown\, TN 38556\n(931) 752-8988
URL:https://www.thecommunityhousetn.org/event/handfuls-of-harvest-soup-kitchen-2-2/2026-09-15/
LOCATION:Handfuls of Harvest Soup Kitchen\, 206 Gaudin Ave\, Jamestown\, TN\, 38556\, United States
CATEGORIES:Food Pantry
END:VEVENT
BEGIN:VEVENT
DTSTART;TZID=America/Chicago:20260917T100000
DTEND;TZID=America/Chicago:20260917T130000
DTSTAMP:20260420T001432
CREATED:20250423T191248Z
LAST-MODIFIED:20250423T191248Z
UID:10005210-1789639200-1789650000@www.thecommunityhousetn.org
SUMMARY:Second Harvest Food Bank Clarkrange
DESCRIPTION:Drive thru full pantry distribution\nSouth Fentress Park\n6233 York Hwy\, Clarkrange \nEvery 3rd Tuesday; 10 am to 1 pm
URL:https://www.thecommunityhousetn.org/event/second-harvest-food-bank-clarkrange-2/2026-09-17/
LOCATION:Second Harves Food Bank Clarkrange\, 6233 York Hwy\, Clarkrange\, Clarkrange\, TN\, 38556\, United States
CATEGORIES:Food Pantry
END:VEVENT
BEGIN:VEVENT
DTSTART;TZID=America/Chicago:20260917T130000
DTEND;TZID=America/Chicago:20260917T160000
DTSTAMP:20260420T001432
CREATED:20250526T171256Z
LAST-MODIFIED:20250526T171256Z
UID:10006428-1789650000-1789660800@www.thecommunityhousetn.org
SUMMARY:Refresh & Refuel Outreach
DESCRIPTION:“Refresh & Refuel” is a weekly Outreach on Thursday afternoons from 1:00 to 4:00 pm. The outreach offers access to a hot shower\, made-to-order sandwiches\, hygiene items\,  clothing\, and more for the area’s needy or unsheltered. \nLocated at the First Baptist Church Family Life Center in Jamestown. \n Coordinated by The Community House\, the outreach is staffed by volunteers from numerous area nonprofits and churches.  \nFuture plans include access to laundry facilities\, haircuts\, and more.
URL:https://www.thecommunityhousetn.org/event/refresh-refuel-outreach/2026-09-17/
LOCATION:Family Life Center\, FJB\, 360 East Central Avenue\, Jamestown\, TN\, 38556\, United States
CATEGORIES:Food Pantry
ORGANIZER;CN="The Community House":MAILTO:info@thecommunityhouseTN.org
END:VEVENT
BEGIN:VEVENT
DTSTART;TZID=America/Chicago:20260917T170000
DTEND;TZID=America/Chicago:20260917T180000
DTSTAMP:20260420T001432
CREATED:20250526T171859Z
LAST-MODIFIED:20250526T171902Z
UID:10007937-1789664400-1789668000@www.thecommunityhousetn.org
SUMMARY:Handfuls of Harvest Soup Kitchen
DESCRIPTION:Monday\, Tuesday\, Thursday\, Friday\nTimes can vary. 5 pm to 6 pm currently\nFree meals. Donations accepted.\n206 Gaudin Ave\, Jamestown\, TN 38556\n(931) 752-8988
URL:https://www.thecommunityhousetn.org/event/handfuls-of-harvest-soup-kitchen-2-2/2026-09-17/
LOCATION:Handfuls of Harvest Soup Kitchen\, 206 Gaudin Ave\, Jamestown\, TN\, 38556\, United States
CATEGORIES:Food Pantry
END:VEVENT
BEGIN:VEVENT
DTSTART;TZID=America/Chicago:20260918T130000
DTEND;TZID=America/Chicago:20260918T160000
DTSTAMP:20260420T001432
CREATED:20250423T185540Z
LAST-MODIFIED:20250423T185540Z
UID:10004944-1789736400-1789747200@www.thecommunityhousetn.org
SUMMARY:5 Loaves Food Pantry/Vine Church
DESCRIPTION:This pantry is unique in that they often have meats and bread and milk\, and fresh foods as well.\n598 Vine Ridge Rd.\, Crawford\, TN 38554\nFridays 1 pm to 4 pm\nhttps://www.5loavestn.org/
URL:https://www.thecommunityhousetn.org/event/5-loaves-food-pantry-vine-church/2026-09-18/
LOCATION:5 Loaves Food Pantry\, 598 Vine Ridge Rd.\, Crawford\, TN 38554\, Crawford\, TN\, 38554\, United States
CATEGORIES:Food Pantry
END:VEVENT
BEGIN:VEVENT
DTSTART;TZID=America/Chicago:20260918T170000
DTEND;TZID=America/Chicago:20260918T180000
DTSTAMP:20260420T001432
CREATED:20250526T171859Z
LAST-MODIFIED:20250526T171902Z
UID:10007938-1789750800-1789754400@www.thecommunityhousetn.org
SUMMARY:Handfuls of Harvest Soup Kitchen
DESCRIPTION:Monday\, Tuesday\, Thursday\, Friday\nTimes can vary. 5 pm to 6 pm currently\nFree meals. Donations accepted.\n206 Gaudin Ave\, Jamestown\, TN 38556\n(931) 752-8988
URL:https://www.thecommunityhousetn.org/event/handfuls-of-harvest-soup-kitchen-2-2/2026-09-18/
LOCATION:Handfuls of Harvest Soup Kitchen\, 206 Gaudin Ave\, Jamestown\, TN\, 38556\, United States
CATEGORIES:Food Pantry
END:VEVENT
BEGIN:VEVENT
DTSTART;TZID=America/Chicago:20260921T170000
DTEND;TZID=America/Chicago:20260921T180000
DTSTAMP:20260420T001432
CREATED:20250526T171859Z
LAST-MODIFIED:20250526T171902Z
UID:10007939-1790010000-1790013600@www.thecommunityhousetn.org
SUMMARY:Handfuls of Harvest Soup Kitchen
DESCRIPTION:Monday\, Tuesday\, Thursday\, Friday\nTimes can vary. 5 pm to 6 pm currently\nFree meals. Donations accepted.\n206 Gaudin Ave\, Jamestown\, TN 38556\n(931) 752-8988
URL:https://www.thecommunityhousetn.org/event/handfuls-of-harvest-soup-kitchen-2-2/2026-09-21/
LOCATION:Handfuls of Harvest Soup Kitchen\, 206 Gaudin Ave\, Jamestown\, TN\, 38556\, United States
CATEGORIES:Food Pantry
END:VEVENT
BEGIN:VEVENT
DTSTART;TZID=America/Chicago:20260922T100000
DTEND;TZID=America/Chicago:20260922T120000
DTSTAMP:20260420T001432
CREATED:20250423T183259Z
LAST-MODIFIED:20250423T183259Z
UID:10004618-1790071200-1790078400@www.thecommunityhousetn.org
SUMMARY:Methodist Church Food Pantry
DESCRIPTION:Every Tuesday 10 am to noon\n102 E Church Street\, Jamestown\n(931) 879-7816
URL:https://www.thecommunityhousetn.org/event/methodist-church-food-pantry-2/2026-09-22/
LOCATION:Methodist Church Food Pantry\, 102 E Church Street\, Jamestown\, TN\, 38556\, United States
CATEGORIES:Food Pantry
END:VEVENT
BEGIN:VEVENT
DTSTART;TZID=America/Chicago:20260922T160000
DTEND;TZID=America/Chicago:20260922T180000
DTSTAMP:20260420T001432
CREATED:20250423T183634Z
LAST-MODIFIED:20250423T183634Z
UID:10004824-1790092800-1790100000@www.thecommunityhousetn.org
SUMMARY:Pine Haven Baptist Church
DESCRIPTION:Last Tuesday of every month; 4 pm to 6 pm\nNonperishable foods\, clothing\, others\n829 N York Hwy\, Jamestown\n(931) 310-9862
URL:https://www.thecommunityhousetn.org/event/pine-haven-baptist-church-2/2026-09-22/
LOCATION:Pine Haven Baptist Church\, 829 N York Hwy\, Jamestown\, TN\, 38556\, United States
CATEGORIES:Food Pantry
END:VEVENT
BEGIN:VEVENT
DTSTART;TZID=America/Chicago:20260922T170000
DTEND;TZID=America/Chicago:20260922T180000
DTSTAMP:20260420T001432
CREATED:20250526T171859Z
LAST-MODIFIED:20250526T171902Z
UID:10007940-1790096400-1790100000@www.thecommunityhousetn.org
SUMMARY:Handfuls of Harvest Soup Kitchen
DESCRIPTION:Monday\, Tuesday\, Thursday\, Friday\nTimes can vary. 5 pm to 6 pm currently\nFree meals. Donations accepted.\n206 Gaudin Ave\, Jamestown\, TN 38556\n(931) 752-8988
URL:https://www.thecommunityhousetn.org/event/handfuls-of-harvest-soup-kitchen-2-2/2026-09-22/
LOCATION:Handfuls of Harvest Soup Kitchen\, 206 Gaudin Ave\, Jamestown\, TN\, 38556\, United States
CATEGORIES:Food Pantry
END:VEVENT
BEGIN:VEVENT
DTSTART;TZID=America/Chicago:20260924T130000
DTEND;TZID=America/Chicago:20260924T160000
DTSTAMP:20260420T001432
CREATED:20250526T171256Z
LAST-MODIFIED:20250526T171256Z
UID:10006429-1790254800-1790265600@www.thecommunityhousetn.org
SUMMARY:Refresh & Refuel Outreach
DESCRIPTION:“Refresh & Refuel” is a weekly Outreach on Thursday afternoons from 1:00 to 4:00 pm. The outreach offers access to a hot shower\, made-to-order sandwiches\, hygiene items\,  clothing\, and more for the area’s needy or unsheltered. \nLocated at the First Baptist Church Family Life Center in Jamestown. \n Coordinated by The Community House\, the outreach is staffed by volunteers from numerous area nonprofits and churches.  \nFuture plans include access to laundry facilities\, haircuts\, and more.
URL:https://www.thecommunityhousetn.org/event/refresh-refuel-outreach/2026-09-24/
LOCATION:Family Life Center\, FJB\, 360 East Central Avenue\, Jamestown\, TN\, 38556\, United States
CATEGORIES:Food Pantry
ORGANIZER;CN="The Community House":MAILTO:info@thecommunityhouseTN.org
END:VEVENT
BEGIN:VEVENT
DTSTART;TZID=America/Chicago:20260924T170000
DTEND;TZID=America/Chicago:20260924T180000
DTSTAMP:20260420T001432
CREATED:20250526T171859Z
LAST-MODIFIED:20250526T171902Z
UID:10007941-1790269200-1790272800@www.thecommunityhousetn.org
SUMMARY:Handfuls of Harvest Soup Kitchen
DESCRIPTION:Monday\, Tuesday\, Thursday\, Friday\nTimes can vary. 5 pm to 6 pm currently\nFree meals. Donations accepted.\n206 Gaudin Ave\, Jamestown\, TN 38556\n(931) 752-8988
URL:https://www.thecommunityhousetn.org/event/handfuls-of-harvest-soup-kitchen-2-2/2026-09-24/
LOCATION:Handfuls of Harvest Soup Kitchen\, 206 Gaudin Ave\, Jamestown\, TN\, 38556\, United States
CATEGORIES:Food Pantry
END:VEVENT
BEGIN:VEVENT
DTSTART;TZID=America/Chicago:20260925T130000
DTEND;TZID=America/Chicago:20260925T160000
DTSTAMP:20260420T001432
CREATED:20250423T185540Z
LAST-MODIFIED:20250423T185540Z
UID:10004945-1790341200-1790352000@www.thecommunityhousetn.org
SUMMARY:5 Loaves Food Pantry/Vine Church
DESCRIPTION:This pantry is unique in that they often have meats and bread and milk\, and fresh foods as well.\n598 Vine Ridge Rd.\, Crawford\, TN 38554\nFridays 1 pm to 4 pm\nhttps://www.5loavestn.org/
URL:https://www.thecommunityhousetn.org/event/5-loaves-food-pantry-vine-church/2026-09-25/
LOCATION:5 Loaves Food Pantry\, 598 Vine Ridge Rd.\, Crawford\, TN 38554\, Crawford\, TN\, 38554\, United States
CATEGORIES:Food Pantry
END:VEVENT
END:VCALENDAR