BEGIN:VCALENDAR
VERSION:2.0
PRODID:-//The Community House Inc - ECPv6.15.20//NONSGML v1.0//EN
CALSCALE:GREGORIAN
METHOD:PUBLISH
X-WR-CALNAME:The Community House Inc
X-ORIGINAL-URL:https://www.thecommunityhousetn.org
X-WR-CALDESC:Events for The Community House Inc
REFRESH-INTERVAL;VALUE=DURATION:PT1H
X-Robots-Tag:noindex
X-PUBLISHED-TTL:PT1H
BEGIN:VTIMEZONE
TZID:America/Chicago
BEGIN:DAYLIGHT
TZOFFSETFROM:-0600
TZOFFSETTO:-0500
TZNAME:CDT
DTSTART:20250309T080000
END:DAYLIGHT
BEGIN:STANDARD
TZOFFSETFROM:-0500
TZOFFSETTO:-0600
TZNAME:CST
DTSTART:20251102T070000
END:STANDARD
BEGIN:DAYLIGHT
TZOFFSETFROM:-0600
TZOFFSETTO:-0500
TZNAME:CDT
DTSTART:20260308T080000
END:DAYLIGHT
BEGIN:STANDARD
TZOFFSETFROM:-0500
TZOFFSETTO:-0600
TZNAME:CST
DTSTART:20261101T070000
END:STANDARD
BEGIN:DAYLIGHT
TZOFFSETFROM:-0600
TZOFFSETTO:-0500
TZNAME:CDT
DTSTART:20270314T080000
END:DAYLIGHT
BEGIN:STANDARD
TZOFFSETFROM:-0500
TZOFFSETTO:-0600
TZNAME:CST
DTSTART:20271107T070000
END:STANDARD
END:VTIMEZONE
BEGIN:VEVENT
DTSTART;TZID=America/Chicago:20260702T130000
DTEND;TZID=America/Chicago:20260702T160000
DTSTAMP:20260419T181737
CREATED:20250526T171256Z
LAST-MODIFIED:20250526T171256Z
UID:10006417-1782997200-1783008000@www.thecommunityhousetn.org
SUMMARY:Refresh & Refuel Outreach
DESCRIPTION:“Refresh & Refuel” is a weekly Outreach on Thursday afternoons from 1:00 to 4:00 pm. The outreach offers access to a hot shower\, made-to-order sandwiches\, hygiene items\,  clothing\, and more for the area’s needy or unsheltered. \nLocated at the First Baptist Church Family Life Center in Jamestown. \n Coordinated by The Community House\, the outreach is staffed by volunteers from numerous area nonprofits and churches.  \nFuture plans include access to laundry facilities\, haircuts\, and more.
URL:https://www.thecommunityhousetn.org/event/refresh-refuel-outreach/2026-07-02/
LOCATION:Family Life Center\, FJB\, 360 East Central Avenue\, Jamestown\, TN\, 38556\, United States
CATEGORIES:Food Pantry
ORGANIZER;CN="The Community House":MAILTO:info@thecommunityhouseTN.org
END:VEVENT
BEGIN:VEVENT
DTSTART;TZID=America/Chicago:20260702T170000
DTEND;TZID=America/Chicago:20260702T180000
DTSTAMP:20260419T181737
CREATED:20250526T171859Z
LAST-MODIFIED:20250526T171902Z
UID:10007893-1783011600-1783015200@www.thecommunityhousetn.org
SUMMARY:Handfuls of Harvest Soup Kitchen
DESCRIPTION:Monday\, Tuesday\, Thursday\, Friday\nTimes can vary. 5 pm to 6 pm currently\nFree meals. Donations accepted.\n206 Gaudin Ave\, Jamestown\, TN 38556\n(931) 752-8988
URL:https://www.thecommunityhousetn.org/event/handfuls-of-harvest-soup-kitchen-2-2/2026-07-02/
LOCATION:Handfuls of Harvest Soup Kitchen\, 206 Gaudin Ave\, Jamestown\, TN\, 38556\, United States
CATEGORIES:Food Pantry
END:VEVENT
BEGIN:VEVENT
DTSTART;TZID=America/Chicago:20260703T130000
DTEND;TZID=America/Chicago:20260703T160000
DTSTAMP:20260419T181737
CREATED:20250423T185540Z
LAST-MODIFIED:20250423T185540Z
UID:10004933-1783083600-1783094400@www.thecommunityhousetn.org
SUMMARY:5 Loaves Food Pantry/Vine Church
DESCRIPTION:This pantry is unique in that they often have meats and bread and milk\, and fresh foods as well.\n598 Vine Ridge Rd.\, Crawford\, TN 38554\nFridays 1 pm to 4 pm\nhttps://www.5loavestn.org/
URL:https://www.thecommunityhousetn.org/event/5-loaves-food-pantry-vine-church/2026-07-03/
LOCATION:5 Loaves Food Pantry\, 598 Vine Ridge Rd.\, Crawford\, TN 38554\, Crawford\, TN\, 38554\, United States
CATEGORIES:Food Pantry
END:VEVENT
BEGIN:VEVENT
DTSTART;TZID=America/Chicago:20260703T170000
DTEND;TZID=America/Chicago:20260703T180000
DTSTAMP:20260419T181737
CREATED:20250526T171859Z
LAST-MODIFIED:20250526T171902Z
UID:10007894-1783098000-1783101600@www.thecommunityhousetn.org
SUMMARY:Handfuls of Harvest Soup Kitchen
DESCRIPTION:Monday\, Tuesday\, Thursday\, Friday\nTimes can vary. 5 pm to 6 pm currently\nFree meals. Donations accepted.\n206 Gaudin Ave\, Jamestown\, TN 38556\n(931) 752-8988
URL:https://www.thecommunityhousetn.org/event/handfuls-of-harvest-soup-kitchen-2-2/2026-07-03/
LOCATION:Handfuls of Harvest Soup Kitchen\, 206 Gaudin Ave\, Jamestown\, TN\, 38556\, United States
CATEGORIES:Food Pantry
END:VEVENT
BEGIN:VEVENT
DTSTART;TZID=America/Chicago:20260706T170000
DTEND;TZID=America/Chicago:20260706T180000
DTSTAMP:20260419T181737
CREATED:20250526T171859Z
LAST-MODIFIED:20250526T171902Z
UID:10007895-1783357200-1783360800@www.thecommunityhousetn.org
SUMMARY:Handfuls of Harvest Soup Kitchen
DESCRIPTION:Monday\, Tuesday\, Thursday\, Friday\nTimes can vary. 5 pm to 6 pm currently\nFree meals. Donations accepted.\n206 Gaudin Ave\, Jamestown\, TN 38556\n(931) 752-8988
URL:https://www.thecommunityhousetn.org/event/handfuls-of-harvest-soup-kitchen-2-2/2026-07-06/
LOCATION:Handfuls of Harvest Soup Kitchen\, 206 Gaudin Ave\, Jamestown\, TN\, 38556\, United States
CATEGORIES:Food Pantry
END:VEVENT
BEGIN:VEVENT
DTSTART;TZID=America/Chicago:20260707T100000
DTEND;TZID=America/Chicago:20260707T120000
DTSTAMP:20260419T181737
CREATED:20250423T183259Z
LAST-MODIFIED:20250423T183259Z
UID:10004607-1783418400-1783425600@www.thecommunityhousetn.org
SUMMARY:Methodist Church Food Pantry
DESCRIPTION:Every Tuesday 10 am to noon\n102 E Church Street\, Jamestown\n(931) 879-7816
URL:https://www.thecommunityhousetn.org/event/methodist-church-food-pantry-2/2026-07-07/
LOCATION:Methodist Church Food Pantry\, 102 E Church Street\, Jamestown\, TN\, 38556\, United States
CATEGORIES:Food Pantry
END:VEVENT
BEGIN:VEVENT
DTSTART;TZID=America/Chicago:20260707T170000
DTEND;TZID=America/Chicago:20260707T180000
DTSTAMP:20260419T181737
CREATED:20250526T171859Z
LAST-MODIFIED:20250526T171902Z
UID:10007896-1783443600-1783447200@www.thecommunityhousetn.org
SUMMARY:Handfuls of Harvest Soup Kitchen
DESCRIPTION:Monday\, Tuesday\, Thursday\, Friday\nTimes can vary. 5 pm to 6 pm currently\nFree meals. Donations accepted.\n206 Gaudin Ave\, Jamestown\, TN 38556\n(931) 752-8988
URL:https://www.thecommunityhousetn.org/event/handfuls-of-harvest-soup-kitchen-2-2/2026-07-07/
LOCATION:Handfuls of Harvest Soup Kitchen\, 206 Gaudin Ave\, Jamestown\, TN\, 38556\, United States
CATEGORIES:Food Pantry
END:VEVENT
BEGIN:VEVENT
DTSTART;TZID=America/Chicago:20260709T100000
DTEND;TZID=America/Chicago:20260709T120000
DTSTAMP:20260419T181737
CREATED:20250423T191443Z
LAST-MODIFIED:20250423T191443Z
UID:10005269-1783591200-1783598400@www.thecommunityhousetn.org
SUMMARY:7th Day Adventist Church
DESCRIPTION:2nd Thursday\, food distribution\,\n10 am to 12 pm\n1103 McGhee Rd\, Jamestown\n931-879-1747
URL:https://www.thecommunityhousetn.org/event/7th-day-adventist-church/2026-07-09/
LOCATION:7th Day Adventist Church\, 1103 McGhee Rd\, Jamestown\, TN\, 38556\, United States
CATEGORIES:Food Pantry
END:VEVENT
BEGIN:VEVENT
DTSTART;TZID=America/Chicago:20260709T130000
DTEND;TZID=America/Chicago:20260709T160000
DTSTAMP:20260419T181737
CREATED:20250526T171256Z
LAST-MODIFIED:20250526T171256Z
UID:10006418-1783602000-1783612800@www.thecommunityhousetn.org
SUMMARY:Refresh & Refuel Outreach
DESCRIPTION:“Refresh & Refuel” is a weekly Outreach on Thursday afternoons from 1:00 to 4:00 pm. The outreach offers access to a hot shower\, made-to-order sandwiches\, hygiene items\,  clothing\, and more for the area’s needy or unsheltered. \nLocated at the First Baptist Church Family Life Center in Jamestown. \n Coordinated by The Community House\, the outreach is staffed by volunteers from numerous area nonprofits and churches.  \nFuture plans include access to laundry facilities\, haircuts\, and more.
URL:https://www.thecommunityhousetn.org/event/refresh-refuel-outreach/2026-07-09/
LOCATION:Family Life Center\, FJB\, 360 East Central Avenue\, Jamestown\, TN\, 38556\, United States
CATEGORIES:Food Pantry
ORGANIZER;CN="The Community House":MAILTO:info@thecommunityhouseTN.org
END:VEVENT
BEGIN:VEVENT
DTSTART;TZID=America/Chicago:20260709T170000
DTEND;TZID=America/Chicago:20260709T180000
DTSTAMP:20260419T181737
CREATED:20250526T171859Z
LAST-MODIFIED:20250526T171902Z
UID:10007897-1783616400-1783620000@www.thecommunityhousetn.org
SUMMARY:Handfuls of Harvest Soup Kitchen
DESCRIPTION:Monday\, Tuesday\, Thursday\, Friday\nTimes can vary. 5 pm to 6 pm currently\nFree meals. Donations accepted.\n206 Gaudin Ave\, Jamestown\, TN 38556\n(931) 752-8988
URL:https://www.thecommunityhousetn.org/event/handfuls-of-harvest-soup-kitchen-2-2/2026-07-09/
LOCATION:Handfuls of Harvest Soup Kitchen\, 206 Gaudin Ave\, Jamestown\, TN\, 38556\, United States
CATEGORIES:Food Pantry
END:VEVENT
BEGIN:VEVENT
DTSTART;TZID=America/Chicago:20260710T130000
DTEND;TZID=America/Chicago:20260710T160000
DTSTAMP:20260419T181737
CREATED:20250423T185540Z
LAST-MODIFIED:20250423T185540Z
UID:10004934-1783688400-1783699200@www.thecommunityhousetn.org
SUMMARY:5 Loaves Food Pantry/Vine Church
DESCRIPTION:This pantry is unique in that they often have meats and bread and milk\, and fresh foods as well.\n598 Vine Ridge Rd.\, Crawford\, TN 38554\nFridays 1 pm to 4 pm\nhttps://www.5loavestn.org/
URL:https://www.thecommunityhousetn.org/event/5-loaves-food-pantry-vine-church/2026-07-10/
LOCATION:5 Loaves Food Pantry\, 598 Vine Ridge Rd.\, Crawford\, TN 38554\, Crawford\, TN\, 38554\, United States
CATEGORIES:Food Pantry
END:VEVENT
BEGIN:VEVENT
DTSTART;TZID=America/Chicago:20260710T170000
DTEND;TZID=America/Chicago:20260710T180000
DTSTAMP:20260419T181737
CREATED:20250526T171859Z
LAST-MODIFIED:20250526T171902Z
UID:10007898-1783702800-1783706400@www.thecommunityhousetn.org
SUMMARY:Handfuls of Harvest Soup Kitchen
DESCRIPTION:Monday\, Tuesday\, Thursday\, Friday\nTimes can vary. 5 pm to 6 pm currently\nFree meals. Donations accepted.\n206 Gaudin Ave\, Jamestown\, TN 38556\n(931) 752-8988
URL:https://www.thecommunityhousetn.org/event/handfuls-of-harvest-soup-kitchen-2-2/2026-07-10/
LOCATION:Handfuls of Harvest Soup Kitchen\, 206 Gaudin Ave\, Jamestown\, TN\, 38556\, United States
CATEGORIES:Food Pantry
END:VEVENT
BEGIN:VEVENT
DTSTART;TZID=America/Chicago:20260713T170000
DTEND;TZID=America/Chicago:20260713T180000
DTSTAMP:20260419T181737
CREATED:20250526T171859Z
LAST-MODIFIED:20250526T171902Z
UID:10007899-1783962000-1783965600@www.thecommunityhousetn.org
SUMMARY:Handfuls of Harvest Soup Kitchen
DESCRIPTION:Monday\, Tuesday\, Thursday\, Friday\nTimes can vary. 5 pm to 6 pm currently\nFree meals. Donations accepted.\n206 Gaudin Ave\, Jamestown\, TN 38556\n(931) 752-8988
URL:https://www.thecommunityhousetn.org/event/handfuls-of-harvest-soup-kitchen-2-2/2026-07-13/
LOCATION:Handfuls of Harvest Soup Kitchen\, 206 Gaudin Ave\, Jamestown\, TN\, 38556\, United States
CATEGORIES:Food Pantry
END:VEVENT
BEGIN:VEVENT
DTSTART;TZID=America/Chicago:20260714T083000
DTEND;TZID=America/Chicago:20260714T103000
DTSTAMP:20260419T181737
CREATED:20250423T185934Z
LAST-MODIFIED:20250423T190954Z
UID:10005147-1784017800-1784025000@www.thecommunityhousetn.org
SUMMARY:Second Harvest Food Bank
DESCRIPTION:Second Harvest Food Bank\nEvery 2nd Tuesday; 8:30 am to 10:30 am\nProduce only distribution held at the Jamestown Food Pantry\, 511 Fairgrounds Rd \n 
URL:https://www.thecommunityhousetn.org/event/second-harvest-food-bank/2026-07-14/
LOCATION:Second Harvest Food Bank\, 511 Fairgrounds Rd\, Jamestown\, TN\, 38556\, United States
CATEGORIES:Food Pantry
END:VEVENT
BEGIN:VEVENT
DTSTART;TZID=America/Chicago:20260714T100000
DTEND;TZID=America/Chicago:20260714T120000
DTSTAMP:20260419T181737
CREATED:20250423T183259Z
LAST-MODIFIED:20250423T183259Z
UID:10004608-1784023200-1784030400@www.thecommunityhousetn.org
SUMMARY:Methodist Church Food Pantry
DESCRIPTION:Every Tuesday 10 am to noon\n102 E Church Street\, Jamestown\n(931) 879-7816
URL:https://www.thecommunityhousetn.org/event/methodist-church-food-pantry-2/2026-07-14/
LOCATION:Methodist Church Food Pantry\, 102 E Church Street\, Jamestown\, TN\, 38556\, United States
CATEGORIES:Food Pantry
END:VEVENT
BEGIN:VEVENT
DTSTART;TZID=America/Chicago:20260714T170000
DTEND;TZID=America/Chicago:20260714T180000
DTSTAMP:20260419T181737
CREATED:20250526T171859Z
LAST-MODIFIED:20250526T171902Z
UID:10007900-1784048400-1784052000@www.thecommunityhousetn.org
SUMMARY:Handfuls of Harvest Soup Kitchen
DESCRIPTION:Monday\, Tuesday\, Thursday\, Friday\nTimes can vary. 5 pm to 6 pm currently\nFree meals. Donations accepted.\n206 Gaudin Ave\, Jamestown\, TN 38556\n(931) 752-8988
URL:https://www.thecommunityhousetn.org/event/handfuls-of-harvest-soup-kitchen-2-2/2026-07-14/
LOCATION:Handfuls of Harvest Soup Kitchen\, 206 Gaudin Ave\, Jamestown\, TN\, 38556\, United States
CATEGORIES:Food Pantry
END:VEVENT
BEGIN:VEVENT
DTSTART;TZID=America/Chicago:20260716T100000
DTEND;TZID=America/Chicago:20260716T130000
DTSTAMP:20260419T181737
CREATED:20250423T191248Z
LAST-MODIFIED:20250423T191248Z
UID:10005208-1784196000-1784206800@www.thecommunityhousetn.org
SUMMARY:Second Harvest Food Bank Clarkrange
DESCRIPTION:Drive thru full pantry distribution\nSouth Fentress Park\n6233 York Hwy\, Clarkrange \nEvery 3rd Tuesday; 10 am to 1 pm
URL:https://www.thecommunityhousetn.org/event/second-harvest-food-bank-clarkrange-2/2026-07-16/
LOCATION:Second Harves Food Bank Clarkrange\, 6233 York Hwy\, Clarkrange\, Clarkrange\, TN\, 38556\, United States
CATEGORIES:Food Pantry
END:VEVENT
BEGIN:VEVENT
DTSTART;TZID=America/Chicago:20260716T130000
DTEND;TZID=America/Chicago:20260716T160000
DTSTAMP:20260419T181737
CREATED:20250526T171256Z
LAST-MODIFIED:20250526T171256Z
UID:10006419-1784206800-1784217600@www.thecommunityhousetn.org
SUMMARY:Refresh & Refuel Outreach
DESCRIPTION:“Refresh & Refuel” is a weekly Outreach on Thursday afternoons from 1:00 to 4:00 pm. The outreach offers access to a hot shower\, made-to-order sandwiches\, hygiene items\,  clothing\, and more for the area’s needy or unsheltered. \nLocated at the First Baptist Church Family Life Center in Jamestown. \n Coordinated by The Community House\, the outreach is staffed by volunteers from numerous area nonprofits and churches.  \nFuture plans include access to laundry facilities\, haircuts\, and more.
URL:https://www.thecommunityhousetn.org/event/refresh-refuel-outreach/2026-07-16/
LOCATION:Family Life Center\, FJB\, 360 East Central Avenue\, Jamestown\, TN\, 38556\, United States
CATEGORIES:Food Pantry
ORGANIZER;CN="The Community House":MAILTO:info@thecommunityhouseTN.org
END:VEVENT
BEGIN:VEVENT
DTSTART;TZID=America/Chicago:20260716T170000
DTEND;TZID=America/Chicago:20260716T180000
DTSTAMP:20260419T181737
CREATED:20250526T171859Z
LAST-MODIFIED:20250526T171902Z
UID:10007901-1784221200-1784224800@www.thecommunityhousetn.org
SUMMARY:Handfuls of Harvest Soup Kitchen
DESCRIPTION:Monday\, Tuesday\, Thursday\, Friday\nTimes can vary. 5 pm to 6 pm currently\nFree meals. Donations accepted.\n206 Gaudin Ave\, Jamestown\, TN 38556\n(931) 752-8988
URL:https://www.thecommunityhousetn.org/event/handfuls-of-harvest-soup-kitchen-2-2/2026-07-16/
LOCATION:Handfuls of Harvest Soup Kitchen\, 206 Gaudin Ave\, Jamestown\, TN\, 38556\, United States
CATEGORIES:Food Pantry
END:VEVENT
BEGIN:VEVENT
DTSTART;TZID=America/Chicago:20260717T130000
DTEND;TZID=America/Chicago:20260717T160000
DTSTAMP:20260419T181737
CREATED:20250423T185540Z
LAST-MODIFIED:20250423T185540Z
UID:10004935-1784293200-1784304000@www.thecommunityhousetn.org
SUMMARY:5 Loaves Food Pantry/Vine Church
DESCRIPTION:This pantry is unique in that they often have meats and bread and milk\, and fresh foods as well.\n598 Vine Ridge Rd.\, Crawford\, TN 38554\nFridays 1 pm to 4 pm\nhttps://www.5loavestn.org/
URL:https://www.thecommunityhousetn.org/event/5-loaves-food-pantry-vine-church/2026-07-17/
LOCATION:5 Loaves Food Pantry\, 598 Vine Ridge Rd.\, Crawford\, TN 38554\, Crawford\, TN\, 38554\, United States
CATEGORIES:Food Pantry
END:VEVENT
BEGIN:VEVENT
DTSTART;TZID=America/Chicago:20260717T170000
DTEND;TZID=America/Chicago:20260717T180000
DTSTAMP:20260419T181737
CREATED:20250526T171859Z
LAST-MODIFIED:20250526T171902Z
UID:10007902-1784307600-1784311200@www.thecommunityhousetn.org
SUMMARY:Handfuls of Harvest Soup Kitchen
DESCRIPTION:Monday\, Tuesday\, Thursday\, Friday\nTimes can vary. 5 pm to 6 pm currently\nFree meals. Donations accepted.\n206 Gaudin Ave\, Jamestown\, TN 38556\n(931) 752-8988
URL:https://www.thecommunityhousetn.org/event/handfuls-of-harvest-soup-kitchen-2-2/2026-07-17/
LOCATION:Handfuls of Harvest Soup Kitchen\, 206 Gaudin Ave\, Jamestown\, TN\, 38556\, United States
CATEGORIES:Food Pantry
END:VEVENT
BEGIN:VEVENT
DTSTART;TZID=America/Chicago:20260720T170000
DTEND;TZID=America/Chicago:20260720T180000
DTSTAMP:20260419T181737
CREATED:20250526T171859Z
LAST-MODIFIED:20250526T171902Z
UID:10007903-1784566800-1784570400@www.thecommunityhousetn.org
SUMMARY:Handfuls of Harvest Soup Kitchen
DESCRIPTION:Monday\, Tuesday\, Thursday\, Friday\nTimes can vary. 5 pm to 6 pm currently\nFree meals. Donations accepted.\n206 Gaudin Ave\, Jamestown\, TN 38556\n(931) 752-8988
URL:https://www.thecommunityhousetn.org/event/handfuls-of-harvest-soup-kitchen-2-2/2026-07-20/
LOCATION:Handfuls of Harvest Soup Kitchen\, 206 Gaudin Ave\, Jamestown\, TN\, 38556\, United States
CATEGORIES:Food Pantry
END:VEVENT
BEGIN:VEVENT
DTSTART;TZID=America/Chicago:20260721T100000
DTEND;TZID=America/Chicago:20260721T120000
DTSTAMP:20260419T181737
CREATED:20250423T183259Z
LAST-MODIFIED:20250423T183259Z
UID:10004609-1784628000-1784635200@www.thecommunityhousetn.org
SUMMARY:Methodist Church Food Pantry
DESCRIPTION:Every Tuesday 10 am to noon\n102 E Church Street\, Jamestown\n(931) 879-7816
URL:https://www.thecommunityhousetn.org/event/methodist-church-food-pantry-2/2026-07-21/
LOCATION:Methodist Church Food Pantry\, 102 E Church Street\, Jamestown\, TN\, 38556\, United States
CATEGORIES:Food Pantry
END:VEVENT
BEGIN:VEVENT
DTSTART;TZID=America/Chicago:20260721T170000
DTEND;TZID=America/Chicago:20260721T180000
DTSTAMP:20260419T181737
CREATED:20250526T171859Z
LAST-MODIFIED:20250526T171902Z
UID:10007904-1784653200-1784656800@www.thecommunityhousetn.org
SUMMARY:Handfuls of Harvest Soup Kitchen
DESCRIPTION:Monday\, Tuesday\, Thursday\, Friday\nTimes can vary. 5 pm to 6 pm currently\nFree meals. Donations accepted.\n206 Gaudin Ave\, Jamestown\, TN 38556\n(931) 752-8988
URL:https://www.thecommunityhousetn.org/event/handfuls-of-harvest-soup-kitchen-2-2/2026-07-21/
LOCATION:Handfuls of Harvest Soup Kitchen\, 206 Gaudin Ave\, Jamestown\, TN\, 38556\, United States
CATEGORIES:Food Pantry
END:VEVENT
BEGIN:VEVENT
DTSTART;TZID=America/Chicago:20260723T130000
DTEND;TZID=America/Chicago:20260723T160000
DTSTAMP:20260419T181737
CREATED:20250526T171256Z
LAST-MODIFIED:20250526T171256Z
UID:10006420-1784811600-1784822400@www.thecommunityhousetn.org
SUMMARY:Refresh & Refuel Outreach
DESCRIPTION:“Refresh & Refuel” is a weekly Outreach on Thursday afternoons from 1:00 to 4:00 pm. The outreach offers access to a hot shower\, made-to-order sandwiches\, hygiene items\,  clothing\, and more for the area’s needy or unsheltered. \nLocated at the First Baptist Church Family Life Center in Jamestown. \n Coordinated by The Community House\, the outreach is staffed by volunteers from numerous area nonprofits and churches.  \nFuture plans include access to laundry facilities\, haircuts\, and more.
URL:https://www.thecommunityhousetn.org/event/refresh-refuel-outreach/2026-07-23/
LOCATION:Family Life Center\, FJB\, 360 East Central Avenue\, Jamestown\, TN\, 38556\, United States
CATEGORIES:Food Pantry
ORGANIZER;CN="The Community House":MAILTO:info@thecommunityhouseTN.org
END:VEVENT
BEGIN:VEVENT
DTSTART;TZID=America/Chicago:20260723T170000
DTEND;TZID=America/Chicago:20260723T180000
DTSTAMP:20260419T181737
CREATED:20250526T171859Z
LAST-MODIFIED:20250526T171902Z
UID:10007905-1784826000-1784829600@www.thecommunityhousetn.org
SUMMARY:Handfuls of Harvest Soup Kitchen
DESCRIPTION:Monday\, Tuesday\, Thursday\, Friday\nTimes can vary. 5 pm to 6 pm currently\nFree meals. Donations accepted.\n206 Gaudin Ave\, Jamestown\, TN 38556\n(931) 752-8988
URL:https://www.thecommunityhousetn.org/event/handfuls-of-harvest-soup-kitchen-2-2/2026-07-23/
LOCATION:Handfuls of Harvest Soup Kitchen\, 206 Gaudin Ave\, Jamestown\, TN\, 38556\, United States
CATEGORIES:Food Pantry
END:VEVENT
BEGIN:VEVENT
DTSTART;TZID=America/Chicago:20260724T130000
DTEND;TZID=America/Chicago:20260724T160000
DTSTAMP:20260419T181737
CREATED:20250423T185540Z
LAST-MODIFIED:20250423T185540Z
UID:10004936-1784898000-1784908800@www.thecommunityhousetn.org
SUMMARY:5 Loaves Food Pantry/Vine Church
DESCRIPTION:This pantry is unique in that they often have meats and bread and milk\, and fresh foods as well.\n598 Vine Ridge Rd.\, Crawford\, TN 38554\nFridays 1 pm to 4 pm\nhttps://www.5loavestn.org/
URL:https://www.thecommunityhousetn.org/event/5-loaves-food-pantry-vine-church/2026-07-24/
LOCATION:5 Loaves Food Pantry\, 598 Vine Ridge Rd.\, Crawford\, TN 38554\, Crawford\, TN\, 38554\, United States
CATEGORIES:Food Pantry
END:VEVENT
BEGIN:VEVENT
DTSTART;TZID=America/Chicago:20260724T170000
DTEND;TZID=America/Chicago:20260724T180000
DTSTAMP:20260419T181737
CREATED:20250526T171859Z
LAST-MODIFIED:20250526T171902Z
UID:10007906-1784912400-1784916000@www.thecommunityhousetn.org
SUMMARY:Handfuls of Harvest Soup Kitchen
DESCRIPTION:Monday\, Tuesday\, Thursday\, Friday\nTimes can vary. 5 pm to 6 pm currently\nFree meals. Donations accepted.\n206 Gaudin Ave\, Jamestown\, TN 38556\n(931) 752-8988
URL:https://www.thecommunityhousetn.org/event/handfuls-of-harvest-soup-kitchen-2-2/2026-07-24/
LOCATION:Handfuls of Harvest Soup Kitchen\, 206 Gaudin Ave\, Jamestown\, TN\, 38556\, United States
CATEGORIES:Food Pantry
END:VEVENT
BEGIN:VEVENT
DTSTART;TZID=America/Chicago:20260727T170000
DTEND;TZID=America/Chicago:20260727T180000
DTSTAMP:20260419T181737
CREATED:20250526T171859Z
LAST-MODIFIED:20250526T171902Z
UID:10007907-1785171600-1785175200@www.thecommunityhousetn.org
SUMMARY:Handfuls of Harvest Soup Kitchen
DESCRIPTION:Monday\, Tuesday\, Thursday\, Friday\nTimes can vary. 5 pm to 6 pm currently\nFree meals. Donations accepted.\n206 Gaudin Ave\, Jamestown\, TN 38556\n(931) 752-8988
URL:https://www.thecommunityhousetn.org/event/handfuls-of-harvest-soup-kitchen-2-2/2026-07-27/
LOCATION:Handfuls of Harvest Soup Kitchen\, 206 Gaudin Ave\, Jamestown\, TN\, 38556\, United States
CATEGORIES:Food Pantry
END:VEVENT
BEGIN:VEVENT
DTSTART;TZID=America/Chicago:20260728T100000
DTEND;TZID=America/Chicago:20260728T120000
DTSTAMP:20260419T181737
CREATED:20250423T183259Z
LAST-MODIFIED:20250423T183259Z
UID:10004610-1785232800-1785240000@www.thecommunityhousetn.org
SUMMARY:Methodist Church Food Pantry
DESCRIPTION:Every Tuesday 10 am to noon\n102 E Church Street\, Jamestown\n(931) 879-7816
URL:https://www.thecommunityhousetn.org/event/methodist-church-food-pantry-2/2026-07-28/
LOCATION:Methodist Church Food Pantry\, 102 E Church Street\, Jamestown\, TN\, 38556\, United States
CATEGORIES:Food Pantry
END:VEVENT
END:VCALENDAR