BEGIN:VCALENDAR
VERSION:2.0
PRODID:-//The Community House Inc - ECPv6.15.20//NONSGML v1.0//EN
CALSCALE:GREGORIAN
METHOD:PUBLISH
X-WR-CALNAME:The Community House Inc
X-ORIGINAL-URL:https://www.thecommunityhousetn.org
X-WR-CALDESC:Events for The Community House Inc
REFRESH-INTERVAL;VALUE=DURATION:PT1H
X-Robots-Tag:noindex
X-PUBLISHED-TTL:PT1H
BEGIN:VTIMEZONE
TZID:America/Chicago
BEGIN:DAYLIGHT
TZOFFSETFROM:-0600
TZOFFSETTO:-0500
TZNAME:CDT
DTSTART:20240310T080000
END:DAYLIGHT
BEGIN:STANDARD
TZOFFSETFROM:-0500
TZOFFSETTO:-0600
TZNAME:CST
DTSTART:20241103T070000
END:STANDARD
BEGIN:DAYLIGHT
TZOFFSETFROM:-0600
TZOFFSETTO:-0500
TZNAME:CDT
DTSTART:20250309T080000
END:DAYLIGHT
BEGIN:STANDARD
TZOFFSETFROM:-0500
TZOFFSETTO:-0600
TZNAME:CST
DTSTART:20251102T070000
END:STANDARD
BEGIN:DAYLIGHT
TZOFFSETFROM:-0600
TZOFFSETTO:-0500
TZNAME:CDT
DTSTART:20260308T080000
END:DAYLIGHT
BEGIN:STANDARD
TZOFFSETFROM:-0500
TZOFFSETTO:-0600
TZNAME:CST
DTSTART:20261101T070000
END:STANDARD
END:VTIMEZONE
BEGIN:VEVENT
DTSTART;TZID=America/Chicago:20250401T100000
DTEND;TZID=America/Chicago:20250401T120000
DTSTAMP:20260422T152457
CREATED:20250423T183259Z
LAST-MODIFIED:20250423T183259Z
UID:10004541-1743501600-1743508800@www.thecommunityhousetn.org
SUMMARY:Methodist Church Food Pantry
DESCRIPTION:Every Tuesday 10 am to noon\n102 E Church Street\, Jamestown\n(931) 879-7816
URL:https://www.thecommunityhousetn.org/event/methodist-church-food-pantry-2/2025-04-01/
LOCATION:Methodist Church Food Pantry\, 102 E Church Street\, Jamestown\, TN\, 38556\, United States
CATEGORIES:Food Pantry
END:VEVENT
BEGIN:VEVENT
DTSTART;TZID=America/Chicago:20250404T130000
DTEND;TZID=America/Chicago:20250404T160000
DTSTAMP:20260422T152457
CREATED:20250423T185540Z
LAST-MODIFIED:20250423T185540Z
UID:10004868-1743771600-1743782400@www.thecommunityhousetn.org
SUMMARY:5 Loaves Food Pantry/Vine Church
DESCRIPTION:This pantry is unique in that they often have meats and bread and milk\, and fresh foods as well.\n598 Vine Ridge Rd.\, Crawford\, TN 38554\nFridays 1 pm to 4 pm\nhttps://www.5loavestn.org/
URL:https://www.thecommunityhousetn.org/event/5-loaves-food-pantry-vine-church/2025-04-04/
LOCATION:5 Loaves Food Pantry\, 598 Vine Ridge Rd.\, Crawford\, TN 38554\, Crawford\, TN\, 38554\, United States
CATEGORIES:Food Pantry
END:VEVENT
BEGIN:VEVENT
DTSTART;TZID=America/Chicago:20250408T083000
DTEND;TZID=America/Chicago:20250408T103000
DTSTAMP:20260422T152457
CREATED:20250423T185934Z
LAST-MODIFIED:20250423T190954Z
UID:10005132-1744101000-1744108200@www.thecommunityhousetn.org
SUMMARY:Second Harvest Food Bank
DESCRIPTION:Second Harvest Food Bank\nEvery 2nd Tuesday; 8:30 am to 10:30 am\nProduce only distribution held at the Jamestown Food Pantry\, 511 Fairgrounds Rd \n 
URL:https://www.thecommunityhousetn.org/event/second-harvest-food-bank/2025-04-08/
LOCATION:Second Harvest Food Bank\, 511 Fairgrounds Rd\, Jamestown\, TN\, 38556\, United States
CATEGORIES:Food Pantry
END:VEVENT
BEGIN:VEVENT
DTSTART;TZID=America/Chicago:20250408T100000
DTEND;TZID=America/Chicago:20250408T120000
DTSTAMP:20260422T152457
CREATED:20250423T183259Z
LAST-MODIFIED:20250423T183259Z
UID:10004542-1744106400-1744113600@www.thecommunityhousetn.org
SUMMARY:Methodist Church Food Pantry
DESCRIPTION:Every Tuesday 10 am to noon\n102 E Church Street\, Jamestown\n(931) 879-7816
URL:https://www.thecommunityhousetn.org/event/methodist-church-food-pantry-2/2025-04-08/
LOCATION:Methodist Church Food Pantry\, 102 E Church Street\, Jamestown\, TN\, 38556\, United States
CATEGORIES:Food Pantry
END:VEVENT
BEGIN:VEVENT
DTSTART;TZID=America/Chicago:20250410T090000
DTEND;TZID=America/Chicago:20250410T110000
DTSTAMP:20260422T152457
CREATED:20250110T205941Z
LAST-MODIFIED:20250220T011443Z
UID:10003420-1744275600-1744282800@www.thecommunityhousetn.org
SUMMARY:UCHRA Commodity Distribution
DESCRIPTION:Highands Church of the Cumberlands\n2nd Thursday every other month\n(Feb/April/June/Aug/Oct/Dec)\n507 Industrial Drive\, Jamestown\, TN 38556\n(931) 879-8040 for more info. \nDistribution takes place in the back parking lot of the church.\nOperated by Upper Cumberland Human Resource Agency (UCHRA)
URL:https://www.thecommunityhousetn.org/event/uchra-commodity-distribution/2025-04-10/
LOCATION:Highlands Church UCHRA Distrib.\, 507 Industrial Drive\, Jamestown\, TN\, 38556\, United States
CATEGORIES:Food Pantry
END:VEVENT
BEGIN:VEVENT
DTSTART;TZID=America/Chicago:20250410T090000
DTEND;TZID=America/Chicago:20250410T110000
DTSTAMP:20260422T152457
CREATED:20250423T182542Z
LAST-MODIFIED:20250423T182542Z
UID:10004502-1744275600-1744282800@www.thecommunityhousetn.org
SUMMARY:UCHRA Commodity Distribution
DESCRIPTION:This takes place in the parking lot behind Highands Church of the Cumberlands on the 2nd Thursday every other month\n(Feb/April/June/Aug/Oct/Dec \nWHEN: From 9 until 11 a.m. on the following dates: \n\nFebruary 13\, 2025 (Thursday)\nApril 10\, 2025 (Thursday)\nJune 12\, 2025 (Thursday)\nAugust 14\, 2025 (Thursday)\nOctober 9\, 2025 (Thursday)\nDecember 11\, 2025 (Thursday)
URL:https://www.thecommunityhousetn.org/event/uchra-commodity-distribution-2/2025-04-10/
LOCATION:Highlands Church UCHRA Distrib.\, 507 Industrial Drive\, Jamestown\, TN\, 38556\, United States
CATEGORIES:Food Pantry
END:VEVENT
BEGIN:VEVENT
DTSTART;TZID=America/Chicago:20250410T100000
DTEND;TZID=America/Chicago:20250410T120000
DTSTAMP:20260422T152457
CREATED:20250423T191443Z
LAST-MODIFIED:20250423T191443Z
UID:10005254-1744279200-1744286400@www.thecommunityhousetn.org
SUMMARY:7th Day Adventist Church
DESCRIPTION:2nd Thursday\, food distribution\,\n10 am to 12 pm\n1103 McGhee Rd\, Jamestown\n931-879-1747
URL:https://www.thecommunityhousetn.org/event/7th-day-adventist-church/2025-04-10/
LOCATION:7th Day Adventist Church\, 1103 McGhee Rd\, Jamestown\, TN\, 38556\, United States
CATEGORIES:Food Pantry
END:VEVENT
BEGIN:VEVENT
DTSTART;TZID=America/Chicago:20250411T130000
DTEND;TZID=America/Chicago:20250411T160000
DTSTAMP:20260422T152457
CREATED:20250423T185540Z
LAST-MODIFIED:20250423T185540Z
UID:10004869-1744376400-1744387200@www.thecommunityhousetn.org
SUMMARY:5 Loaves Food Pantry/Vine Church
DESCRIPTION:This pantry is unique in that they often have meats and bread and milk\, and fresh foods as well.\n598 Vine Ridge Rd.\, Crawford\, TN 38554\nFridays 1 pm to 4 pm\nhttps://www.5loavestn.org/
URL:https://www.thecommunityhousetn.org/event/5-loaves-food-pantry-vine-church/2025-04-11/
LOCATION:5 Loaves Food Pantry\, 598 Vine Ridge Rd.\, Crawford\, TN 38554\, Crawford\, TN\, 38554\, United States
CATEGORIES:Food Pantry
END:VEVENT
BEGIN:VEVENT
DTSTART;TZID=America/Chicago:20250415T100000
DTEND;TZID=America/Chicago:20250415T120000
DTSTAMP:20260422T152457
CREATED:20250423T183259Z
LAST-MODIFIED:20250423T183259Z
UID:10004543-1744711200-1744718400@www.thecommunityhousetn.org
SUMMARY:Methodist Church Food Pantry
DESCRIPTION:Every Tuesday 10 am to noon\n102 E Church Street\, Jamestown\n(931) 879-7816
URL:https://www.thecommunityhousetn.org/event/methodist-church-food-pantry-2/2025-04-15/
LOCATION:Methodist Church Food Pantry\, 102 E Church Street\, Jamestown\, TN\, 38556\, United States
CATEGORIES:Food Pantry
END:VEVENT
BEGIN:VEVENT
DTSTART;TZID=America/Chicago:20250417T073000
DTEND;TZID=America/Chicago:20250417T140000
DTSTAMP:20260422T152457
CREATED:20250423T183117Z
LAST-MODIFIED:20250423T183117Z
UID:10004533-1744875000-1744898400@www.thecommunityhousetn.org
SUMMARY:House of Prayer Food Pantry
DESCRIPTION:House of Prayer Food Pantry\n3rd Thursday of the Month Jan-Oct\n2nd Thursday of the Month Nov-Dec\nFood distribution: 7:30 am to 2 pm\n1331 Pickett Park Hwy\, Jamestown\n(931) 879-8418
URL:https://www.thecommunityhousetn.org/event/house-of-prayer-food-pantry-2/2025-04-17/
LOCATION:House of Prayer Food Pantry\, 1321 Pickett Park Hwy\, Jamestown\, TN\, 38556\, United States
CATEGORIES:Food Pantry
END:VEVENT
BEGIN:VEVENT
DTSTART;TZID=America/Chicago:20250417T100000
DTEND;TZID=America/Chicago:20250417T130000
DTSTAMP:20260422T152457
CREATED:20250423T191248Z
LAST-MODIFIED:20250423T191248Z
UID:10005193-1744884000-1744894800@www.thecommunityhousetn.org
SUMMARY:Second Harvest Food Bank Clarkrange
DESCRIPTION:Drive thru full pantry distribution\nSouth Fentress Park\n6233 York Hwy\, Clarkrange \nEvery 3rd Tuesday; 10 am to 1 pm
URL:https://www.thecommunityhousetn.org/event/second-harvest-food-bank-clarkrange-2/2025-04-17/
LOCATION:Second Harves Food Bank Clarkrange\, 6233 York Hwy\, Clarkrange\, Clarkrange\, TN\, 38556\, United States
CATEGORIES:Food Pantry
END:VEVENT
BEGIN:VEVENT
DTSTART;TZID=America/Chicago:20250418T130000
DTEND;TZID=America/Chicago:20250418T160000
DTSTAMP:20260422T152457
CREATED:20250423T185540Z
LAST-MODIFIED:20250423T185540Z
UID:10004870-1744981200-1744992000@www.thecommunityhousetn.org
SUMMARY:5 Loaves Food Pantry/Vine Church
DESCRIPTION:This pantry is unique in that they often have meats and bread and milk\, and fresh foods as well.\n598 Vine Ridge Rd.\, Crawford\, TN 38554\nFridays 1 pm to 4 pm\nhttps://www.5loavestn.org/
URL:https://www.thecommunityhousetn.org/event/5-loaves-food-pantry-vine-church/2025-04-18/
LOCATION:5 Loaves Food Pantry\, 598 Vine Ridge Rd.\, Crawford\, TN 38554\, Crawford\, TN\, 38554\, United States
CATEGORIES:Food Pantry
END:VEVENT
BEGIN:VEVENT
DTSTART;TZID=America/Chicago:20250422T100000
DTEND;TZID=America/Chicago:20250422T120000
DTSTAMP:20260422T152457
CREATED:20250423T183259Z
LAST-MODIFIED:20250423T183259Z
UID:10004544-1745316000-1745323200@www.thecommunityhousetn.org
SUMMARY:Methodist Church Food Pantry
DESCRIPTION:Every Tuesday 10 am to noon\n102 E Church Street\, Jamestown\n(931) 879-7816
URL:https://www.thecommunityhousetn.org/event/methodist-church-food-pantry-2/2025-04-22/
LOCATION:Methodist Church Food Pantry\, 102 E Church Street\, Jamestown\, TN\, 38556\, United States
CATEGORIES:Food Pantry
END:VEVENT
BEGIN:VEVENT
DTSTART;TZID=America/Chicago:20250422T160000
DTEND;TZID=America/Chicago:20250422T170000
DTSTAMP:20260422T152457
CREATED:20250423T165906Z
LAST-MODIFIED:20250423T191637Z
UID:10005315-1745337600-1745341200@www.thecommunityhousetn.org
SUMMARY:Handfuls of Harvest Soup Kitchen
DESCRIPTION:Monday\, Tuesday\, Thursday\, Friday\nTimes can vary. 4 pm to 5 pm currently\nFree meals. Donations accepted.\n206 Gaudin Ave\, Jamestown\, TN 38556\n(931) 752-8988
URL:https://www.thecommunityhousetn.org/event/handfuls-of-harvest-soup-kitchen-2/2025-04-22/
LOCATION:Handfuls of Harvest Soup Kitchen\, 206 Gaudin Ave\, Jamestown\, TN\, 38556\, United States
CATEGORIES:Food Pantry
END:VEVENT
BEGIN:VEVENT
DTSTART;TZID=America/Chicago:20250422T160000
DTEND;TZID=America/Chicago:20250422T180000
DTSTAMP:20260422T152457
CREATED:20250423T183634Z
LAST-MODIFIED:20250423T183634Z
UID:10004807-1745337600-1745344800@www.thecommunityhousetn.org
SUMMARY:Pine Haven Baptist Church
DESCRIPTION:Last Tuesday of every month; 4 pm to 6 pm\nNonperishable foods\, clothing\, others\n829 N York Hwy\, Jamestown\n(931) 310-9862
URL:https://www.thecommunityhousetn.org/event/pine-haven-baptist-church-2/2025-04-22/
LOCATION:Pine Haven Baptist Church\, 829 N York Hwy\, Jamestown\, TN\, 38556\, United States
CATEGORIES:Food Pantry
END:VEVENT
BEGIN:VEVENT
DTSTART;TZID=America/Chicago:20250424T160000
DTEND;TZID=America/Chicago:20250424T170000
DTSTAMP:20260422T152457
CREATED:20250423T165906Z
LAST-MODIFIED:20250423T191637Z
UID:10005316-1745510400-1745514000@www.thecommunityhousetn.org
SUMMARY:Handfuls of Harvest Soup Kitchen
DESCRIPTION:Monday\, Tuesday\, Thursday\, Friday\nTimes can vary. 4 pm to 5 pm currently\nFree meals. Donations accepted.\n206 Gaudin Ave\, Jamestown\, TN 38556\n(931) 752-8988
URL:https://www.thecommunityhousetn.org/event/handfuls-of-harvest-soup-kitchen-2/2025-04-24/
LOCATION:Handfuls of Harvest Soup Kitchen\, 206 Gaudin Ave\, Jamestown\, TN\, 38556\, United States
CATEGORIES:Food Pantry
END:VEVENT
BEGIN:VEVENT
DTSTART;TZID=America/Chicago:20250425T130000
DTEND;TZID=America/Chicago:20250425T160000
DTSTAMP:20260422T152457
CREATED:20250423T185540Z
LAST-MODIFIED:20250423T185540Z
UID:10004871-1745586000-1745596800@www.thecommunityhousetn.org
SUMMARY:5 Loaves Food Pantry/Vine Church
DESCRIPTION:This pantry is unique in that they often have meats and bread and milk\, and fresh foods as well.\n598 Vine Ridge Rd.\, Crawford\, TN 38554\nFridays 1 pm to 4 pm\nhttps://www.5loavestn.org/
URL:https://www.thecommunityhousetn.org/event/5-loaves-food-pantry-vine-church/2025-04-25/
LOCATION:5 Loaves Food Pantry\, 598 Vine Ridge Rd.\, Crawford\, TN 38554\, Crawford\, TN\, 38554\, United States
CATEGORIES:Food Pantry
END:VEVENT
BEGIN:VEVENT
DTSTART;TZID=America/Chicago:20250425T160000
DTEND;TZID=America/Chicago:20250425T170000
DTSTAMP:20260422T152457
CREATED:20250423T165906Z
LAST-MODIFIED:20250423T191637Z
UID:10005317-1745596800-1745600400@www.thecommunityhousetn.org
SUMMARY:Handfuls of Harvest Soup Kitchen
DESCRIPTION:Monday\, Tuesday\, Thursday\, Friday\nTimes can vary. 4 pm to 5 pm currently\nFree meals. Donations accepted.\n206 Gaudin Ave\, Jamestown\, TN 38556\n(931) 752-8988
URL:https://www.thecommunityhousetn.org/event/handfuls-of-harvest-soup-kitchen-2/2025-04-25/
LOCATION:Handfuls of Harvest Soup Kitchen\, 206 Gaudin Ave\, Jamestown\, TN\, 38556\, United States
CATEGORIES:Food Pantry
END:VEVENT
BEGIN:VEVENT
DTSTART;TZID=America/Chicago:20250428T160000
DTEND;TZID=America/Chicago:20250428T170000
DTSTAMP:20260422T152457
CREATED:20250423T165906Z
LAST-MODIFIED:20250423T191637Z
UID:10005318-1745856000-1745859600@www.thecommunityhousetn.org
SUMMARY:Handfuls of Harvest Soup Kitchen
DESCRIPTION:Monday\, Tuesday\, Thursday\, Friday\nTimes can vary. 4 pm to 5 pm currently\nFree meals. Donations accepted.\n206 Gaudin Ave\, Jamestown\, TN 38556\n(931) 752-8988
URL:https://www.thecommunityhousetn.org/event/handfuls-of-harvest-soup-kitchen-2/2025-04-28/
LOCATION:Handfuls of Harvest Soup Kitchen\, 206 Gaudin Ave\, Jamestown\, TN\, 38556\, United States
CATEGORIES:Food Pantry
END:VEVENT
BEGIN:VEVENT
DTSTART;TZID=America/Chicago:20250429T100000
DTEND;TZID=America/Chicago:20250429T120000
DTSTAMP:20260422T152457
CREATED:20250423T183259Z
LAST-MODIFIED:20250423T183259Z
UID:10004545-1745920800-1745928000@www.thecommunityhousetn.org
SUMMARY:Methodist Church Food Pantry
DESCRIPTION:Every Tuesday 10 am to noon\n102 E Church Street\, Jamestown\n(931) 879-7816
URL:https://www.thecommunityhousetn.org/event/methodist-church-food-pantry-2/2025-04-29/
LOCATION:Methodist Church Food Pantry\, 102 E Church Street\, Jamestown\, TN\, 38556\, United States
CATEGORIES:Food Pantry
END:VEVENT
BEGIN:VEVENT
DTSTART;TZID=America/Chicago:20250429T160000
DTEND;TZID=America/Chicago:20250429T170000
DTSTAMP:20260422T152457
CREATED:20250423T165906Z
LAST-MODIFIED:20250423T191637Z
UID:10005319-1745942400-1745946000@www.thecommunityhousetn.org
SUMMARY:Handfuls of Harvest Soup Kitchen
DESCRIPTION:Monday\, Tuesday\, Thursday\, Friday\nTimes can vary. 4 pm to 5 pm currently\nFree meals. Donations accepted.\n206 Gaudin Ave\, Jamestown\, TN 38556\n(931) 752-8988
URL:https://www.thecommunityhousetn.org/event/handfuls-of-harvest-soup-kitchen-2/2025-04-29/
LOCATION:Handfuls of Harvest Soup Kitchen\, 206 Gaudin Ave\, Jamestown\, TN\, 38556\, United States
CATEGORIES:Food Pantry
END:VEVENT
END:VCALENDAR